FILENAME: O4511307.SWS.1076621.tif
QUADRANGLE_NAME: LOWER SEYMOUR LAKE
QUADRANT: SW
WEST_LONGITUDE: -113 15 0.00000
EAST_LONGITUDE: -113 11 15.00000
NORTH_LATITUDE: 45 56 15.00000
SOUTH_LATITUDE: 45 52 30.00000
PRODUCTION_DATE: 2000 4 20
RASTER_ORDER: LEFT_RIGHT/TOP_BOTTOM
BAND_ORGANIZATION: SINGLE FILE
BAND_CONTENT: BLACK&WHITE
BAND_CONTENT: UNDEFINED
BAND_CONTENT: UNDEFINED
BITS_PER_PIXEL: 8
SAMPLES_AND_LINES: 5713 7688
HORIZONTAL_DATUM: NAD83
HORIZONTAL_COORDINATE_SYSTEM: UTM
COORDINATE_ZONE: 12
HORIZONTAL_UNITS: METERS
HORIZONTAL_RESOLUTION: 1.00000
SECONDARY_HORIZONTAL_DATUM: NAD27
XY_ORIGIN: 325016.00000 5089865.00000
SECONDARY_XY_ORIGIN: 325079.73700 5089653.62000
NATION: US
NATION: "SCIENCE
STATE: MT
NW_QUAD_CORNER_XY: 325582.64300 5089564.88700
NE_QUAD_CORNER_XY: 330427.49400 5089430.00300
SE_QUAD_CORNERY_XY: 330236.99700 5082486.09300
SW_QUAD_CORNER_XY: 325386.69800 5082620.98600
SECONDARY_NW_QUAD_XY: 325577.38800 5089347.03200
SECONDARY_NE_QUAD_XY: 330422.38500 5089212.14400
SECONDARY_SE_QUAD_XY: 330231.88900 5082268.27700
SECONDARY_SW_QUAD_XY: 325381.44400 5082403.17400
RMSE_XY: 1.60000
IMAGE_SOURCE: BLACK AND WHITE FILM
SOURCE_IMAGE_ID: NAPP 8393 196
SOURCE_IMAGE_DATE: 1995 08 19
SOURCE_IMAGE_ID: NAPP 8393 195
SOURCE_IMAGE_DATE: 1995 08 19
SOURCE_DEM_DATE: 1955 00 00
AGENCY: WESTERN MAPPING CENTER (WMC)
PRODUCER: UNDEFINED
PRODUCTION_SYSTEM: GIS/MAGIC
COMPRESSION: UNDEFINED
STANDARD_VERSION: 1996 12
METADATA_DATE: 2000 05 25
DATA_FILE_SIZE: 43927257
BYTE_COUNT: 5713
