FILENAME: O4511305.SWS.1076851.tif
QUADRANGLE_NAME: WARREN PEAK
QUADRANT: SW
WEST_LONGITUDE: -113 30 0.00000
EAST_LONGITUDE: -113 26 15.00000
NORTH_LATITUDE: 45 56 15.00000
SOUTH_LATITUDE: 45 52 30.00000
PRODUCTION_DATE: 2000 4 18
RASTER_ORDER: LEFT_RIGHT/TOP_BOTTOM
BAND_ORGANIZATION: SINGLE FILE
BAND_CONTENT: BLACK&WHITE
BAND_CONTENT: UNDEFINED
BAND_CONTENT: UNDEFINED
BITS_PER_PIXEL: 8
SAMPLES_AND_LINES: 5736 7703
HORIZONTAL_DATUM: NAD83
HORIZONTAL_COORDINATE_SYSTEM: UTM
COORDINATE_ZONE: 12
HORIZONTAL_UNITS: METERS
HORIZONTAL_RESOLUTION: 1.00000
SECONDARY_HORIZONTAL_DATUM: NAD27
XY_ORIGIN: 305614.00000 5090443.00000
SECONDARY_XY_ORIGIN: 305678.08400 5090231.54500
NATION: US
NATION: "SCIENCE
STATE: MT
NW_QUAD_CORNER_XY: 306203.30700 5090142.46000
NE_QUAD_CORNER_XY: 311048.13000 5089992.36000
SE_QUAD_CORNERY_XY: 310835.83800 5083048.48800
SW_QUAD_CORNER_XY: 305985.56500 5083198.59700
SECONDARY_NW_QUAD_XY: 306197.46800 5089924.62200
SECONDARY_NE_QUAD_XY: 311042.43700 5089774.51800
SECONDARY_SE_QUAD_XY: 310830.14600 5082830.68900
SECONDARY_SW_QUAD_XY: 305979.72700 5082980.80300
RMSE_XY: 2.40000
IMAGE_SOURCE: BLACK AND WHITE FILM
SOURCE_IMAGE_ID: NAPP 8404 121
SOURCE_IMAGE_DATE: 1995 09 12
SOURCE_IMAGE_ID: NAPP 8404 122
SOURCE_IMAGE_DATE: 1995 09 12
SOURCE_IMAGE_ID: NAPP 8404 120
SOURCE_IMAGE_DATE: 1995 09 12
SOURCE_DEM_DATE: 1955 00 00
AGENCY: WESTERN MAPPING CENTER (WMC)
PRODUCER: UNDEFINED
PRODUCTION_SYSTEM: GIS/MAGIC
COMPRESSION: UNDEFINED
STANDARD_VERSION: 1996 12
METADATA_DATE: 2000 05 29
DATA_FILE_SIZE: 44190144
BYTE_COUNT: 5736
