FILENAME: O4511304.SES.1076846.tif
QUADRANGLE_NAME: KELLY LAKE
QUADRANT: SE
WEST_LONGITUDE: -113 33 45.00000
EAST_LONGITUDE: -113 30 0.00000
NORTH_LATITUDE: 45 56 15.00000
SOUTH_LATITUDE: 45 52 30.00000
PRODUCTION_DATE: 2000 4 18
RASTER_ORDER: LEFT_RIGHT/TOP_BOTTOM
BAND_ORGANIZATION: SINGLE FILE
BAND_CONTENT: BLACK&WHITE
BAND_CONTENT: UNDEFINED
BAND_CONTENT: UNDEFINED
BITS_PER_PIXEL: 8
SAMPLES_AND_LINES: 5741 7707
HORIZONTAL_DATUM: NAD83
HORIZONTAL_COORDINATE_SYSTEM: UTM
COORDINATE_ZONE: 12
HORIZONTAL_UNITS: METERS
HORIZONTAL_RESOLUTION: 1.00000
SECONDARY_HORIZONTAL_DATUM: NAD27
XY_ORIGIN: 300764.00000 5090597.00000
SECONDARY_XY_ORIGIN: 300828.13900 5090385.52200
NATION: US
NATION: "SCIENCE
STATE: MT
NW_QUAD_CORNER_XY: 301358.49100 5090296.36400
NE_QUAD_CORNER_XY: 306203.30700 5090142.46000
SE_QUAD_CORNERY_XY: 305985.56500 5083198.59700
SW_QUAD_CORNER_XY: 301135.29900 5083352.51200
SECONDARY_NW_QUAD_XY: 301352.50600 5090078.53100
SECONDARY_NE_QUAD_XY: 306197.46800 5089924.62200
SECONDARY_SE_QUAD_XY: 305979.72700 5082980.80300
SECONDARY_SW_QUAD_XY: 301129.31500 5083134.72200
RMSE_XY: 2.80000
IMAGE_SOURCE: BLACK AND WHITE FILM
SOURCE_IMAGE_ID: NAPP 8391 246
SOURCE_IMAGE_DATE: 1995 08 01
SOURCE_IMAGE_ID: NAPP 8391 245
SOURCE_IMAGE_DATE: 1995 08 01
SOURCE_IMAGE_ID: NAPP 8404 120
SOURCE_IMAGE_DATE: 1995 09 12
SOURCE_DEM_DATE: 1997 00 00
AGENCY: WESTERN MAPPING CENTER (WMC)
PRODUCER: UNDEFINED
PRODUCTION_SYSTEM: GIS/MAGIC
COMPRESSION: UNDEFINED
STANDARD_VERSION: 1996 12
METADATA_DATE: 2000 05 29
DATA_FILE_SIZE: 44251628
BYTE_COUNT: 5741
