FILENAME: O4511303.SES.1074789.tif
QUADRANGLE_NAME: LICK CREEK
QUADRANT: SE
WEST_LONGITUDE: -113 41 15.00000
EAST_LONGITUDE: -113 37 30.00000
NORTH_LATITUDE: 45 56 15.00000
SOUTH_LATITUDE: 45 52 30.00000
PRODUCTION_DATE: 2000 3 15
RASTER_ORDER: LEFT_RIGHT/TOP_BOTTOM
BAND_ORGANIZATION: SINGLE FILE
BAND_CONTENT: BLACK&WHITE
BAND_CONTENT: UNDEFINED
BAND_CONTENT: UNDEFINED
BITS_PER_PIXEL: 8
SAMPLES_AND_LINES: 5752 7715
HORIZONTAL_DATUM: NAD83
HORIZONTAL_COORDINATE_SYSTEM: UTM
COORDINATE_ZONE: 12
HORIZONTAL_UNITS: METERS
HORIZONTAL_RESOLUTION: 1.00000
SECONDARY_HORIZONTAL_DATUM: NAD27
XY_ORIGIN: 291063.00000 5090916.00000
SECONDARY_XY_ORIGIN: 291127.25400 5090704.47700
NATION: US
NATION: "SCIENCE
STATE: MT
NW_QUAD_CORNER_XY: 291668.88200 5090615.58700
NE_QUAD_CORNER_XY: 296513.68300 5090454.07300
SE_QUAD_CORNERY_XY: 296285.03900 5083510.23100
SW_QUAD_CORNER_XY: 291434.78700 5083671.75700
SECONDARY_NW_QUAD_XY: 291662.60500 5090397.76400
SECONDARY_NE_QUAD_XY: 296507.55100 5090236.24500
SECONDARY_SE_QUAD_XY: 296278.90900 5083292.44700
SECONDARY_SW_QUAD_XY: 291428.51100 5083453.97700
RMSE_XY: 2.60000
IMAGE_SOURCE: BLACK AND WHITE FILM
SOURCE_IMAGE_ID: NAPP 8393 107
SOURCE_IMAGE_DATE: 1995 08 19
SOURCE_IMAGE_ID: NAPP 8389 117
SOURCE_IMAGE_DATE: 1995 07 31
SOURCE_IMAGE_ID: NAPP 8393 106
SOURCE_IMAGE_DATE: 1995 08 19
SOURCE_IMAGE_ID: NAPP 8393 108
SOURCE_IMAGE_DATE: 1995 08 19
SOURCE_DEM_DATE: 1997 00 00
AGENCY: WESTERN MAPPING CENTER (WMC)
PRODUCER: UNDEFINED
PRODUCTION_SYSTEM: GIS/MAGIC
COMPRESSION: UNDEFINED
STANDARD_VERSION: 1996 12
METADATA_DATE: 2000 05 20
DATA_FILE_SIZE: 44382432
BYTE_COUNT: 5752
