FILENAME: O4511302.SES.1074777.tif
QUADRANGLE_NAME: JENNINGS CAMP CREEK
QUADRANT: SE
WEST_LONGITUDE: -113 48 45.00000
EAST_LONGITUDE: -113 45 0.00000
NORTH_LATITUDE: 45 56 15.00000
SOUTH_LATITUDE: 45 52 30.00000
PRODUCTION_DATE: 2000 3 13
RASTER_ORDER: LEFT_RIGHT/TOP_BOTTOM
BAND_ORGANIZATION: SINGLE FILE
BAND_CONTENT: BLACK&WHITE
BAND_CONTENT: UNDEFINED
BAND_CONTENT: UNDEFINED
BITS_PER_PIXEL: 8
SAMPLES_AND_LINES: 5764 7723
HORIZONTAL_DATUM: NAD83
HORIZONTAL_COORDINATE_SYSTEM: UTM
COORDINATE_ZONE: 12
HORIZONTAL_UNITS: METERS
HORIZONTAL_RESOLUTION: 1.00000
SECONDARY_HORIZONTAL_DATUM: NAD27
XY_ORIGIN: 281362.00000 5091251.00000
SECONDARY_XY_ORIGIN: 281426.28200 5091039.42900
NATION: US
NATION: "SCIENCE
STATE: MT
NW_QUAD_CORNER_XY: 281979.30500 5090950.03300
NE_QUAD_CORNER_XY: 286824.08900 5090780.90700
SE_QUAD_CORNERY_XY: 286584.54300 5083837.08800
SW_QUAD_CORNER_XY: 281734.30600 5084006.22600
SECONDARY_NW_QUAD_XY: 281972.73500 5090732.22000
SECONDARY_NE_QUAD_XY: 286817.66600 5090563.08900
SECONDARY_SE_QUAD_XY: 286578.12100 5083619.31300
SECONDARY_SW_QUAD_XY: 281727.73800 5083788.45600
RMSE_XY: 2.00000
IMAGE_SOURCE: BLACK AND WHITE FILM
SOURCE_IMAGE_ID: NAPP 8389 187
SOURCE_IMAGE_DATE: 1995 07 31
SOURCE_IMAGE_ID: NAPP 8393 035
SOURCE_IMAGE_DATE: 1995 08 19
SOURCE_DEM_DATE: 1965 00 00
AGENCY: WESTERN MAPPING CENTER (WMC)
PRODUCER: UNDEFINED
PRODUCTION_SYSTEM: GIS/MAGIC
COMPRESSION: UNDEFINED
STANDARD_VERSION: 1996 12
METADATA_DATE: 2000 05 20
DATA_FILE_SIZE: 44521136
BYTE_COUNT: 5764
