FILENAME: O4511301.SWS.1074754.tif
QUADRANGLE_NAME: FRENCH BASIN
QUADRANT: SW
WEST_LONGITUDE: -114 0 0.00000
EAST_LONGITUDE: -113 56 15.00000
NORTH_LATITUDE: 45 56 15.00000
SOUTH_LATITUDE: 45 52 30.00000
PRODUCTION_DATE: 2000 3 9
RASTER_ORDER: LEFT_RIGHT/TOP_BOTTOM
BAND_ORGANIZATION: SINGLE FILE
BAND_CONTENT: BLACK&WHITE
BAND_CONTENT: UNDEFINED
BAND_CONTENT: UNDEFINED
BITS_PER_PIXEL: 8
SAMPLES_AND_LINES: 5780 7734
HORIZONTAL_DATUM: NAD83
HORIZONTAL_COORDINATE_SYSTEM: UTM
COORDINATE_ZONE: 12
HORIZONTAL_UNITS: METERS
HORIZONTAL_RESOLUTION: 1.00000
SECONDARY_HORIZONTAL_DATUM: NAD27
XY_ORIGIN: 266811.00000 5091781.00000
SECONDARY_XY_ORIGIN: 266875.22300 5091569.35100
NATION: US
NATION: "SCIENCE
STATE: MT
NW_QUAD_CORNER_XY: 267445.00300 5091480.25200
NE_QUAD_CORNER_XY: 272289.76200 5091299.70600
SE_QUAD_CORNERY_XY: 272033.85500 5084355.92200
SW_QUAD_CORNER_XY: 267183.64300 5084536.48100
SECONDARY_NW_QUAD_XY: 267437.99500 5091262.45500
SECONDARY_NE_QUAD_XY: 272282.90000 5091081.90300
SECONDARY_SE_QUAD_XY: 272026.99500 5084138.16200
SECONDARY_SW_QUAD_XY: 267176.63700 5084318.72700
RMSE_XY: 2.30000
IMAGE_SOURCE: BLACK AND WHITE FILM
SOURCE_IMAGE_ID: NAPP 8389 014
SOURCE_IMAGE_DATE: 1995 07 31
SOURCE_IMAGE_ID: NAPP 8389 013
SOURCE_IMAGE_DATE: 1995 07 31
SOURCE_DEM_DATE: 1997 00 00
AGENCY: WESTERN MAPPING CENTER (WMC)
PRODUCER: UNDEFINED
PRODUCTION_SYSTEM: GIS/MAGIC
COMPRESSION: UNDEFINED
STANDARD_VERSION: 1996 12
METADATA_DATE: 2000 05 20
DATA_FILE_SIZE: 44708300
BYTE_COUNT: 5780
