FILENAME: O4511414.SWS.1068308.tif
QUADRANGLE_NAME: BOULDER PEAK
QUADRANT: SW
WEST_LONGITUDE: -114 22 30.00000
EAST_LONGITUDE: -114 18 45.00000
NORTH_LATITUDE: 45 48 45.00000
SOUTH_LATITUDE: 45 45 0.00000
PRODUCTION_DATE: 2000 3 7
RASTER_ORDER: LEFT_RIGHT/TOP_BOTTOM
BAND_ORGANIZATION: SINGLE FILE
BAND_CONTENT: BLACK&WHITE
BAND_CONTENT: UNDEFINED
BAND_CONTENT: UNDEFINED
BITS_PER_PIXEL: 8
SAMPLES_AND_LINES: 5764 7719
HORIZONTAL_DATUM: NAD83
HORIZONTAL_COORDINATE_SYSTEM: UTM
COORDINATE_ZONE: 11
HORIZONTAL_UNITS: METERS
HORIZONTAL_RESOLUTION: 1.00000
SECONDARY_HORIZONTAL_DATUM: NAD27
XY_ORIGIN: 703570.00000 5077028.00000
SECONDARY_XY_ORIGIN: 703647.52900 5076821.69300
NATION: US
NATION: "SCIENCE
STATE: MT
NW_QUAD_CORNER_XY: 703943.36000 5076566.45000
NE_QUAD_CORNER_XY: 708799.05800 5076727.98600
SE_QUAD_CORNERY_XY: 709032.65400 5069784.27500
SW_QUAD_CORNER_XY: 704171.51600 5069622.73000
SECONDARY_NW_QUAD_XY: 703949.48900 5076348.71000
SECONDARY_NE_QUAD_XY: 708805.33300 5076510.25000
SECONDARY_SE_QUAD_XY: 709038.92700 5069566.58400
SECONDARY_SW_QUAD_XY: 704177.64300 5069405.03400
RMSE_XY: 2.20000
IMAGE_SOURCE: BLACK AND WHITE FILM
SOURCE_IMAGE_ID: NAPP 8407 030
SOURCE_IMAGE_DATE: 1995 08 19
SOURCE_IMAGE_ID: NAPP 8407 029
SOURCE_IMAGE_DATE: 1995 08 19
SOURCE_IMAGE_ID: NAPP 8407 031
SOURCE_IMAGE_DATE: 1995 08 19
SOURCE_DEM_DATE: 1997 00 00
AGENCY: WESTERN MAPPING CENTER (WMC)
PRODUCER: UNDEFINED
PRODUCTION_SYSTEM: GIS/MAGIC
COMPRESSION: UNDEFINED
STANDARD_VERSION: 1996 12
METADATA_DATE: 2000 04 20
DATA_FILE_SIZE: 44498080
BYTE_COUNT: 5764
