FILENAME: O4511408.SWS.1068748.tif
QUADRANGLE_NAME: ROBBINS GULCH
QUADRANT: SW
WEST_LONGITUDE: -114 7 30.00000
EAST_LONGITUDE: -114 3 45.00000
NORTH_LATITUDE: 45 56 15.00000
SOUTH_LATITUDE: 45 52 30.00000
PRODUCTION_DATE: 2000 3 9
RASTER_ORDER: LEFT_RIGHT/TOP_BOTTOM
BAND_ORGANIZATION: SINGLE FILE
BAND_CONTENT: BLACK&WHITE
BAND_CONTENT: UNDEFINED
BAND_CONTENT: UNDEFINED
BITS_PER_PIXEL: 8
SAMPLES_AND_LINES: 5775 7735
HORIZONTAL_DATUM: NAD83
HORIZONTAL_COORDINATE_SYSTEM: UTM
COORDINATE_ZONE: 11
HORIZONTAL_UNITS: METERS
HORIZONTAL_RESOLUTION: 1.00000
SECONDARY_HORIZONTAL_DATUM: NAD27
XY_ORIGIN: 722493.00000 5091600.00000
SECONDARY_XY_ORIGIN: 722570.54200 5091393.62900
NATION: US
NATION: "SCIENCE
STATE: MT
NW_QUAD_CORNER_XY: 722865.47100 5091122.96600
NE_QUAD_CORNER_XY: 727710.23800 5091299.70600
SE_QUAD_CORNERY_XY: 727966.14500 5084355.92200
SW_QUAD_CORNER_XY: 723115.92400 5084179.17000
SECONDARY_NW_QUAD_XY: 722872.18700 5090905.15800
SECONDARY_NE_QUAD_XY: 727717.10000 5091081.90300
SECONDARY_SE_QUAD_XY: 727973.00500 5084138.16200
SECONDARY_SW_QUAD_XY: 723122.63700 5083961.40500
RMSE_XY: 3.00000
IMAGE_SOURCE: BLACK AND WHITE FILM
SOURCE_IMAGE_ID: NAPP 8406 241
SOURCE_IMAGE_DATE: 1995 07 31
SOURCE_IMAGE_ID: NAPP 8406 240
SOURCE_IMAGE_DATE: 1995 07 31
SOURCE_DEM_DATE: 1997 00 00
AGENCY: WESTERN MAPPING CENTER (WMC)
PRODUCER: UNDEFINED
PRODUCTION_SYSTEM: GIS/MAGIC
COMPRESSION: UNDEFINED
STANDARD_VERSION: 1996 12
METADATA_DATE: 2000 04 20
DATA_FILE_SIZE: 44675400
BYTE_COUNT: 5775
