FILENAME: O4610448.NWS.991848.tif
QUADRANGLE_NAME: WATERHOLE CREEK
QUADRANT: NW
WEST_LONGITUDE: -104 7 30.00000
EAST_LONGITUDE: -104 3 45.00000
NORTH_LATITUDE: 46 22 30.00000
SOUTH_LATITUDE: 46 18 45.00000
PRODUCTION_DATE: 1999 01 06
RASTER_ORDER: LEFT_RIGHT/TOP_BOTTOM
BAND_ORGANIZATION: SINGLE FILE
BAND_CONTENT: BLACK&WHITE
BAND_CONTENT: UNDEFINED
BAND_CONTENT: UNDEFINED
BITS_PER_PIXEL: 8
SAMPLES_AND_LINES: 5525 7599
HORIZONTAL_DATUM: NAD83
HORIZONTAL_COORDINATE_SYSTEM: UTM
COORDINATE_ZONE: 13
HORIZONTAL_UNITS: METERS
HORIZONTAL_RESOLUTION: 1.00000
SECONDARY_HORIZONTAL_DATUM: NAD27
XY_ORIGIN: 566957.50000 5136440.50000
SECONDARY_XY_ORIGIN: 566997.27700 5136221.99200
NATION: US
STATE: MT
NW_QUAD_CORNER_XY: 567293.98300 5136085.90800
NE_QUAD_CORNER_XY: 572100.67700 5136140.94700
SE_QUAD_CORNERY_XY: 572182.89500 5129196.39100
SW_QUAD_CORNER_XY: 567370.71900 5129141.34700
SECONDARY_NW_QUAD_XY: 567296.03000 5135867.71200
SECONDARY_NE_QUAD_XY: 572102.87000 5135922.75200
SECONDARY_SE_QUAD_XY: 572185.08700 5128978.23400
SECONDARY_SW_QUAD_XY: 567372.76500 5128923.18800
RMSE_XY: 4.58000
IMAGE_SOURCE: BLACK & WHITE FILM
SOURCE_IMAGE_ID: NAPP 8631 088
SOURCE_IMAGE_DATE: 1995 07 28
SOURCE_DEM_DATE: 1998 01 01
AGENCY: WESTERN MAPPING CENTER (WMC)
PRODUCER: ATLANTIC TECHNOLOGIES
PRODUCTION_SYSTEM: INTERGRAPH MODEL_SETUP, BASE_RECTIFIER
COMPRESSION: UNDEFINED
STANDARD_VERSION: 1996 12
METADATA_DATE: 1999 01 06
DATA_FILE_SIZE: 41990000
BYTE_COUNT: 5525
