FILENAME: O4610426.SES.1163678.tif
QUADRANGLE_NAME: ISMAY NORTH
QUADRANT: SE
WEST_LONGITUDE: -104 48 45.00000
EAST_LONGITUDE: -104 45 0.00000
NORTH_LATITUDE: 46 33 45.00000
SOUTH_LATITUDE: 46 30 0.00000
PRODUCTION_DATE: 2001 9 24
RASTER_ORDER: LEFT_RIGHT/TOP_BOTTOM
BAND_ORGANIZATION: SINGLE FILE
BAND_CONTENT: BLACK&WHITE
BAND_CONTENT: UNDEFINED
BAND_CONTENT: UNDEFINED
BITS_PER_PIXEL: 8
SAMPLES_AND_LINES: 5462 7570
HORIZONTAL_DATUM: NAD83
HORIZONTAL_COORDINATE_SYSTEM: UTM
COORDINATE_ZONE: 13
HORIZONTAL_UNITS: meters
HORIZONTAL_RESOLUTION: 1.00000
SECONDARY_HORIZONTAL_DATUM: NAD27
XY_ORIGIN: 514026.00000 5156885.00000
SECONDARY_XY_ORIGIN: 514066.14600 5156666.08400
NATION: US
STATE: MT
NW_QUAD_CORNER_XY: 514370.73400 5156565.26300
NE_QUAD_CORNER_XY: 519160.97700 5156578.54200
SE_QUAD_CORNERY_XY: 519182.96900 5149633.71900
SW_QUAD_CORNER_XY: 514387.22800 5149620.43800
SECONDARY_NW_QUAD_XY: 514371.17200 5156346.94800
SECONDARY_NE_QUAD_XY: 519161.56200 5156360.22900
SECONDARY_SE_QUAD_XY: 519183.55400 5149415.44000
SECONDARY_SW_QUAD_XY: 514387.66600 5149402.15800
RMSE_XY: 2.32000
IMAGE_SOURCE: BLACK AND WHITE FILM
SOURCE_IMAGE_ID: NAPP 9081-006
SOURCE_IMAGE_DATE: 1996 6 12
SOURCE_DEM_DATE: 1999 0 0
AGENCY: WESTERN MAPPING CENTER (WMC)
PRODUCER: WOOLPERT LLP
PRODUCTION_SYSTEM: INTERGRAPH ISPM, ISIR
COMPRESSION: UNDEFINED
STANDARD_VERSION: 1996 12
METADATA_DATE: 2001 10 10
DATA_FILE_SIZE: 41352802
BYTE_COUNT: 5462
