FILENAME: O4610426.SWS.1163679.tif
QUADRANGLE_NAME: ISMAY NORTH
QUADRANT: SW
WEST_LONGITUDE: -104 52 30.00000
EAST_LONGITUDE: -104 48 45.00000
NORTH_LATITUDE: 46 33 45.00000
SOUTH_LATITUDE: 46 30 0.00000
PRODUCTION_DATE: 2001 9 24
RASTER_ORDER: LEFT_RIGHT/TOP_BOTTOM
BAND_ORGANIZATION: SINGLE FILE
BAND_CONTENT: BLACK&WHITE
BAND_CONTENT: UNDEFINED
BAND_CONTENT: UNDEFINED
BITS_PER_PIXEL: 8
SAMPLES_AND_LINES: 5458 7566
HORIZONTAL_DATUM: NAD83
HORIZONTAL_COORDINATE_SYSTEM: UTM
COORDINATE_ZONE: 13
HORIZONTAL_UNITS: meters
HORIZONTAL_RESOLUTION: 1.00000
SECONDARY_HORIZONTAL_DATUM: NAD27
XY_ORIGIN: 509235.00000 5156871.00000
SECONDARY_XY_ORIGIN: 509275.20400 5156652.07300
NATION: US
STATE: MT
NW_QUAD_CORNER_XY: 509580.49000 5156555.77700
NE_QUAD_CORNER_XY: 514370.73400 5156565.26300
SE_QUAD_CORNERY_XY: 514387.22800 5149620.43800
SW_QUAD_CORNER_XY: 509591.48600 5149610.95100
SECONDARY_NW_QUAD_XY: 509580.78200 5156337.46200
SECONDARY_NE_QUAD_XY: 514371.17200 5156346.94800
SECONDARY_SE_QUAD_XY: 514387.66600 5149402.15800
SECONDARY_SW_QUAD_XY: 509591.77800 5149392.67100
RMSE_XY: 2.50000
IMAGE_SOURCE: BLACK AND WHITE FILM
SOURCE_IMAGE_ID: NAPP 9108-205
SOURCE_IMAGE_DATE: 1996 8 8
SOURCE_DEM_DATE: 1999 0 0
AGENCY: WESTERN MAPPING CENTER (WMC)
PRODUCER: WOOLPERT LLP
PRODUCTION_SYSTEM: INTERGRAPH ISPM, ISIR
COMPRESSION: UNDEFINED
STANDARD_VERSION: 1996 12
METADATA_DATE: 2001 10 10
DATA_FILE_SIZE: 41300686
BYTE_COUNT: 5458
