FILENAME: O4610425.NES.1163664.tif
QUADRANGLE_NAME: LOONY HOLLOW
QUADRANT: NE
WEST_LONGITUDE: -104 56 15.00000
EAST_LONGITUDE: -104 52 30.00000
NORTH_LATITUDE: 46 37 30.00000
SOUTH_LATITUDE: 46 33 45.00000
PRODUCTION_DATE: 2001 9 24
RASTER_ORDER: LEFT_RIGHT/TOP_BOTTOM
BAND_ORGANIZATION: SINGLE FILE
BAND_CONTENT: BLACK&WHITE
BAND_CONTENT: UNDEFINED
BAND_CONTENT: UNDEFINED
BITS_PER_PIXEL: 8
SAMPLES_AND_LINES: 5447 7562
HORIZONTAL_DATUM: NAD83
HORIZONTAL_COORDINATE_SYSTEM: UTM
COORDINATE_ZONE: 13
HORIZONTAL_UNITS: meters
HORIZONTAL_RESOLUTION: 1.00000
SECONDARY_HORIZONTAL_DATUM: NAD27
XY_ORIGIN: 504439.00000 5163807.00000
SECONDARY_XY_ORIGIN: 504479.24700 5163587.95700
NATION: US
STATE: MT
NW_QUAD_CORNER_XY: 504784.74100 5163494.98800
NE_QUAD_CORNER_XY: 509569.48200 5163500.67900
SE_QUAD_CORNERY_XY: 509580.49000 5156555.77700
SW_QUAD_CORNER_XY: 504790.24500 5156550.08500
SECONDARY_NW_QUAD_XY: 504784.88700 5163276.64000
SECONDARY_NE_QUAD_XY: 509569.77500 5163282.33000
SECONDARY_SE_QUAD_XY: 509580.78200 5156337.46200
SECONDARY_SW_QUAD_XY: 504790.39100 5156331.77100
RMSE_XY: 1.52000
IMAGE_SOURCE: BLACK AND WHITE FILM
SOURCE_IMAGE_ID: NAPP 9108-176
SOURCE_IMAGE_DATE: 1996 8 8
SOURCE_IMAGE_ID: NAPP 9108-177
SOURCE_IMAGE_DATE: 1996 8 8
SOURCE_DEM_DATE: 1999 0 0
AGENCY: WESTERN MAPPING CENTER (WMC)
PRODUCER: WOOLPERT LLP
PRODUCTION_SYSTEM: INTERGRAPH ISPM, ISIR
COMPRESSION: UNDEFINED
STANDARD_VERSION: 1996 12
METADATA_DATE: 2001 10 9
DATA_FILE_SIZE: 41195661
BYTE_COUNT: 5447
