FILENAME: O4610424.NWS.1159492.tif
QUADRANGLE_NAME: CARLYLE
QUADRANT: NW
WEST_LONGITUDE: -104 7 30.00000
EAST_LONGITUDE: -104 3 45.00000
NORTH_LATITUDE: 46 45 0.00000
SOUTH_LATITUDE: 46 41 15.00000
PRODUCTION_DATE: 2001 09 17
RASTER_ORDER: LEFT_RIGHT/TOP_BOTTOM
BAND_ORGANIZATION: SINGLE FILE
BAND_CONTENT: BLACK&WHITE
BAND_CONTENT: UNDEFINED
BAND_CONTENT: UNDEFINED
BITS_PER_PIXEL: 8
SAMPLES_AND_LINES: 5505 7612
HORIZONTAL_DATUM: NAD83
HORIZONTAL_COORDINATE_SYSTEM: UTM
COORDINATE_ZONE: 13
HORIZONTAL_UNITS: METERS
HORIZONTAL_RESOLUTION: 1.00000
SECONDARY_HORIZONTAL_DATUM: NAD27
XY_ORIGIN: 566489.00000 5178116.00000
SECONDARY_XY_ORIGIN: 566528.37400 5177896.66200
NATION: US
STATE: MT
NW_QUAD_CORNER_XY: 566831.87700 5177754.84000
NE_QUAD_CORNER_XY: 571605.55800 5177809.84000
SE_QUAD_CORNERY_XY: 571688.29300 5170864.83900
SW_QUAD_CORNER_XY: 566909.09500 5170809.83100
SECONDARY_NW_QUAD_XY: 566833.92500 5177536.43700
SECONDARY_NE_QUAD_XY: 571607.75300 5177591.43900
SECONDARY_SE_QUAD_XY: 571690.48700 5170646.47000
SECONDARY_SW_QUAD_XY: 566911.14400 5170591.46100
RMSE_XY: 2.35000
IMAGE_SOURCE: BLACK AND WHITE FILM
SOURCE_IMAGE_ID: NAPP 8631-076
SOURCE_IMAGE_DATE: 1995 07 28
SOURCE_DEM_DATE: 1999 00 00
AGENCY: WESTERN MAPPING CENTER (WMC)
PRODUCER: WOOLPERT LLP
PRODUCTION_SYSTEM: INTERGRAPH ISPM, ISIR
COMPRESSION: UNDEFINED
STANDARD_VERSION: 1996 12
METADATA_DATE: 2001 9 19
DATA_FILE_SIZE: 41909565
BYTE_COUNT: 5505
