FILENAME: O4610423.SES.1159490.tif
QUADRANGLE_NAME: CARLYLE NW
QUADRANT: SE
WEST_LONGITUDE: -104 11 15.00000
EAST_LONGITUDE: -104 7 30.00000
NORTH_LATITUDE: 46 41 15.00000
SOUTH_LATITUDE: 46 37 30.00000
PRODUCTION_DATE: 2001 09 17
RASTER_ORDER: LEFT_RIGHT/TOP_BOTTOM
BAND_ORGANIZATION: SINGLE FILE
BAND_CONTENT: BLACK&WHITE
BAND_CONTENT: UNDEFINED
BAND_CONTENT: UNDEFINED
BITS_PER_PIXEL: 8
SAMPLES_AND_LINES: 5505 7608
HORIZONTAL_DATUM: NAD83
HORIZONTAL_COORDINATE_SYSTEM: UTM
COORDINATE_ZONE: 13
HORIZONTAL_UNITS: METERS
HORIZONTAL_RESOLUTION: 1.00000
SECONDARY_HORIZONTAL_DATUM: NAD27
XY_ORIGIN: 561787.00000 5171116.00000
SECONDARY_XY_ORIGIN: 561826.46400 5170896.77100
NATION: US
STATE: MT
NW_QUAD_CORNER_XY: 562129.89300 5170758.61800
NE_QUAD_CORNER_XY: 566909.09500 5170809.83100
SE_QUAD_CORNERY_XY: 566986.23400 5163864.89800
SW_QUAD_CORNER_XY: 562201.52100 5163813.67800
SECONDARY_NW_QUAD_XY: 562131.79500 5170540.24600
SECONDARY_NE_QUAD_XY: 566911.14400 5170591.46100
SECONDARY_SE_QUAD_XY: 566988.28200 5163646.56000
SECONDARY_SW_QUAD_XY: 562203.42300 5163595.33900
RMSE_XY: 2.38000
IMAGE_SOURCE: BLACK AND WHITE FILM
SOURCE_IMAGE_ID: NAPP 10766-116
SOURCE_IMAGE_DATE: 1998 07 10
SOURCE_DEM_DATE: 1999 00 00
AGENCY: WESTERN MAPPING CENTER (WMC)
PRODUCER: WOOLPERT LLP
PRODUCTION_SYSTEM: INTERGRAPH ISPM, ISIR
COMPRESSION: UNDEFINED
STANDARD_VERSION: 1996 12
METADATA_DATE: 2001 9 19
DATA_FILE_SIZE: 41887545
BYTE_COUNT: 5505
