FILENAME: O4610422.NES.1159478.tif
QUADRANGLE_NAME: CAP ROCK
QUADRANT: NE
WEST_LONGITUDE: -104 18 45.00000
EAST_LONGITUDE: -104 15 0.00000
NORTH_LATITUDE: 46 45 0.00000
SOUTH_LATITUDE: 46 41 15.00000
PRODUCTION_DATE: 2001 9 17
RASTER_ORDER: LEFT_RIGHT/TOP_BOTTOM
BAND_ORGANIZATION: SINGLE FILE
BAND_CONTENT: BLACK&WHITE
BAND_CONTENT: UNDEFINED
BAND_CONTENT: UNDEFINED
BITS_PER_PIXEL: 8
SAMPLES_AND_LINES: 5489 7601
HORIZONTAL_DATUM: NAD83
HORIZONTAL_COORDINATE_SYSTEM: UTM
COORDINATE_ZONE: 13
HORIZONTAL_UNITS: meters
HORIZONTAL_RESOLUTION: 1.00000
SECONDARY_HORIZONTAL_DATUM: NAD27
XY_ORIGIN: 552167.00000 5177963.00000
SECONDARY_XY_ORIGIN: 552206.50000 5177743.65200
NATION: US
STATE: MT
NW_QUAD_CORNER_XY: 552510.80700 5177612.59900
NE_QUAD_CORNER_XY: 557284.50100 5177656.21900
SE_QUAD_CORNERY_XY: 557350.68700 5170711.19800
SW_QUAD_CORNER_XY: 552571.47700 5170667.57300
SECONDARY_NW_QUAD_XY: 552512.41700 5177394.19200
SECONDARY_NE_QUAD_XY: 557286.25700 5177437.81300
SECONDARY_SE_QUAD_XY: 557352.44300 5170492.82500
SECONDARY_SW_QUAD_XY: 552573.08600 5170449.19800
RMSE_XY: 2.62000
IMAGE_SOURCE: BLACK AND WHITE FILM
SOURCE_IMAGE_ID: NAPP 9124-030
SOURCE_IMAGE_DATE: 1997 8 22
SOURCE_DEM_DATE: 1999 0 0
AGENCY: WESTERN MAPPING CENTER (WMC)
PRODUCER: WOOLPERT LLP
PRODUCTION_SYSTEM: INTERGRAPH ISPM, ISIR
COMPRESSION: UNDEFINED
STANDARD_VERSION: 1996 12
METADATA_DATE: 2001 9 27
DATA_FILE_SIZE: 41727378
BYTE_COUNT: 5489
