FILENAME: O4610421.SES.1159472.tif
QUADRANGLE_NAME: ROCKING CHAIR BUTTE
QUADRANT: SE
WEST_LONGITUDE: -104 26 15.00000
EAST_LONGITUDE: -104 22 30.00000
NORTH_LATITUDE: 46 41 15.00000
SOUTH_LATITUDE: 46 37 30.00000
PRODUCTION_DATE: 2001 9 17
RASTER_ORDER: LEFT_RIGHT/TOP_BOTTOM
BAND_ORGANIZATION: SINGLE FILE
BAND_CONTENT: BLACK&WHITE
BAND_CONTENT: UNDEFINED
BAND_CONTENT: UNDEFINED
BITS_PER_PIXEL: 8
SAMPLES_AND_LINES: 5484 7593
HORIZONTAL_DATUM: NAD83
HORIZONTAL_COORDINATE_SYSTEM: UTM
COORDINATE_ZONE: 13
HORIZONTAL_UNITS: meters
HORIZONTAL_RESOLUTION: 1.00000
SECONDARY_HORIZONTAL_DATUM: NAD27
XY_ORIGIN: 542669.00000 5170934.00000
SECONDARY_XY_ORIGIN: 542708.68300 5170714.83100
NATION: US
STATE: MT
NW_QUAD_CORNER_XY: 543013.04600 5170591.70300
NE_QUAD_CORNER_XY: 547792.26300 5170627.74100
SE_QUAD_CORNERY_XY: 547847.36000 5163682.78500
SW_QUAD_CORNER_XY: 543062.63300 5163646.74300
SECONDARY_NW_QUAD_XY: 543014.36300 5170373.32600
SECONDARY_NE_QUAD_XY: 547793.72600 5170409.36500
SECONDARY_SE_QUAD_XY: 547848.82300 5163464.44200
SECONDARY_SW_QUAD_XY: 543063.95000 5163428.39900
RMSE_XY: 1.31000
IMAGE_SOURCE: BLACK AND WHITE FILM
SOURCE_IMAGE_ID: NAPP 9103-006
SOURCE_IMAGE_DATE: 1996 7 15
SOURCE_IMAGE_ID: NAPP 9095-047
SOURCE_IMAGE_DATE: 1996 7 9
SOURCE_IMAGE_ID: NAPP 9107-014
SOURCE_IMAGE_DATE: 1996 8 7
SOURCE_DEM_DATE: 1999 0 0
AGENCY: WESTERN MAPPING CENTER (WMC)
PRODUCER: WOOLPERT LLP
PRODUCTION_SYSTEM: INTERGRAPH ISPM, ISIR
COMPRESSION: UNDEFINED
STANDARD_VERSION: 1996 12
METADATA_DATE: 2001 9 27
DATA_FILE_SIZE: 41645496
BYTE_COUNT: 5484
