FILENAME: O4610421.SWS.1159473.tif
QUADRANGLE_NAME: ROCKING CHAIR BUTTE
QUADRANT: SW
WEST_LONGITUDE: -104 30 0.00000
EAST_LONGITUDE: -104 26 15.00000
NORTH_LATITUDE: 46 41 15.00000
SOUTH_LATITUDE: 46 37 30.00000
PRODUCTION_DATE: 2001 9 17
RASTER_ORDER: LEFT_RIGHT/TOP_BOTTOM
BAND_ORGANIZATION: SINGLE FILE
BAND_CONTENT: BLACK&WHITE
BAND_CONTENT: UNDEFINED
BAND_CONTENT: UNDEFINED
BITS_PER_PIXEL: 8
SAMPLES_AND_LINES: 5478 7589
HORIZONTAL_DATUM: NAD83
HORIZONTAL_COORDINATE_SYSTEM: UTM
COORDINATE_ZONE: 13
HORIZONTAL_UNITS: meters
HORIZONTAL_RESOLUTION: 1.00000
SECONDARY_HORIZONTAL_DATUM: NAD27
XY_ORIGIN: 537890.00000 5170898.00000
SECONDARY_XY_ORIGIN: 537929.74800 5170678.85200
NATION: US
STATE: MT
NW_QUAD_CORNER_XY: 538233.82600 5170559.45900
NE_QUAD_CORNER_XY: 543013.04600 5170591.70300
SE_QUAD_CORNERY_XY: 543062.63300 5163646.74300
SW_QUAD_CORNER_XY: 538277.90300 5163614.49500
SECONDARY_NW_QUAD_XY: 538234.99700 5170341.08100
SECONDARY_NE_QUAD_XY: 543014.36300 5170373.32600
SECONDARY_SE_QUAD_XY: 543063.95000 5163428.39900
SECONDARY_SW_QUAD_XY: 538279.07300 5163396.15000
RMSE_XY: 1.37000
IMAGE_SOURCE: BLACK AND WHITE FILM
SOURCE_IMAGE_ID: NAPP 9107-014
SOURCE_IMAGE_DATE: 1996 8 7
SOURCE_DEM_DATE: 1999 0 0
AGENCY: WESTERN MAPPING CENTER (WMC)
PRODUCER: WOOLPERT LLP
PRODUCTION_SYSTEM: INTERGRAPH ISPM, ISIR
COMPRESSION: UNDEFINED
STANDARD_VERSION: 1996 12
METADATA_DATE: 2001 9 27
DATA_FILE_SIZE: 41578020
BYTE_COUNT: 5478
