FILENAME: O4610420.NES.1163652.tif
QUADRANGLE_NAME: AYER SPRING NE
QUADRANT: NE
WEST_LONGITUDE: -104 33 45.00000
EAST_LONGITUDE: -104 30 0.00000
NORTH_LATITUDE: 46 45 0.00000
SOUTH_LATITUDE: 46 41 15.00000
PRODUCTION_DATE: 2001 9 24
RASTER_ORDER: LEFT_RIGHT/TOP_BOTTOM
BAND_ORGANIZATION: SINGLE FILE
BAND_CONTENT: BLACK&WHITE
BAND_CONTENT: UNDEFINED
BAND_CONTENT: UNDEFINED
BITS_PER_PIXEL: 8
SAMPLES_AND_LINES: 5467 7585
HORIZONTAL_DATUM: NAD83
HORIZONTAL_COORDINATE_SYSTEM: UTM
COORDINATE_ZONE: 13
HORIZONTAL_UNITS: meters
HORIZONTAL_RESOLUTION: 1.00000
SECONDARY_HORIZONTAL_DATUM: NAD27
XY_ORIGIN: 533072.00000 5177811.00000
SECONDARY_XY_ORIGIN: 533111.78600 5177591.72700
NATION: US
STATE: MT
NW_QUAD_CORNER_XY: 533415.99600 5177476.05200
NE_QUAD_CORNER_XY: 538189.70300 5177504.49900
SE_QUAD_CORNERY_XY: 538233.82600 5170559.45900
SW_QUAD_CORNER_XY: 533454.60400 5170531.00800
SECONDARY_NW_QUAD_XY: 533417.02100 5177257.64100
SECONDARY_NE_QUAD_XY: 538190.87400 5177286.08900
SECONDARY_SE_QUAD_XY: 538234.99700 5170341.08100
SECONDARY_SW_QUAD_XY: 533455.62800 5170312.62900
RMSE_XY: 2.60000
IMAGE_SOURCE: BLACK AND WHITE FILM
SOURCE_IMAGE_ID: NAPP 9108-081
SOURCE_IMAGE_DATE: 1996 8 8
SOURCE_IMAGE_ID: NAPP 9107-016
SOURCE_IMAGE_DATE: 1996 8 7
SOURCE_DEM_DATE: 1999 0 0
AGENCY: WESTERN MAPPING CENTER (WMC)
PRODUCER: WOOLPERT LLP
PRODUCTION_SYSTEM: INTERGRAPH ISPM, ISIR
COMPRESSION: UNDEFINED
STANDARD_VERSION: 1996 12
METADATA_DATE: 2001 10 10
DATA_FILE_SIZE: 41472662
BYTE_COUNT: 5467
