FILENAME: O4610420.SWS.1163655.tif
QUADRANGLE_NAME: AYER SPRING NE
QUADRANT: SW
WEST_LONGITUDE: -104 37 30.00000
EAST_LONGITUDE: -104 33 45.00000
NORTH_LATITUDE: 46 41 15.00000
SOUTH_LATITUDE: 46 37 30.00000
PRODUCTION_DATE: 2001 9 24
RASTER_ORDER: LEFT_RIGHT/TOP_BOTTOM
BAND_ORGANIZATION: SINGLE FILE
BAND_CONTENT: BLACK&WHITE
BAND_CONTENT: UNDEFINED
BAND_CONTENT: UNDEFINED
BITS_PER_PIXEL: 8
SAMPLES_AND_LINES: 5468 7581
HORIZONTAL_DATUM: NAD83
HORIZONTAL_COORDINATE_SYSTEM: UTM
COORDINATE_ZONE: 13
HORIZONTAL_UNITS: meters
HORIZONTAL_RESOLUTION: 1.00000
SECONDARY_HORIZONTAL_DATUM: NAD27
XY_ORIGIN: 528331.00000 5170837.00000
SECONDARY_XY_ORIGIN: 528370.89600 5170617.85100
NATION: US
STATE: MT
NW_QUAD_CORNER_XY: 528675.37900 5170506.35100
NE_QUAD_CORNER_XY: 533454.60400 5170531.00800
SE_QUAD_CORNERY_XY: 533493.17100 5163586.04100
SW_QUAD_CORNER_XY: 528708.43600 5163561.38000
SECONDARY_NW_QUAD_XY: 528676.25700 5170287.97200
SECONDARY_NE_QUAD_XY: 533455.62800 5170312.62900
SECONDARY_SE_QUAD_XY: 533494.19500 5163367.69500
SECONDARY_SW_QUAD_XY: 528709.31400 5163343.03400
RMSE_XY: 2.55000
IMAGE_SOURCE: BLACK AND WHITE FILM
SOURCE_IMAGE_ID: NAPP 9108-028
SOURCE_IMAGE_DATE: 1996 8 8
SOURCE_DEM_DATE: 1999 0 0
AGENCY: WESTERN MAPPING CENTER (WMC)
PRODUCER: WOOLPERT LLP
PRODUCTION_SYSTEM: INTERGRAPH ISPM, ISIR
COMPRESSION: UNDEFINED
STANDARD_VERSION: 1996 12
METADATA_DATE: 2001 10 10
DATA_FILE_SIZE: 41458376
BYTE_COUNT: 5468
