FILENAME: O4610419.NES.1163636.tif
QUADRANGLE_NAME: DOROTHY DRAW
QUADRANT: NE
WEST_LONGITUDE: -104 41 15.00000
EAST_LONGITUDE: -104 37 30.00000
NORTH_LATITUDE: 46 45 0.00000
SOUTH_LATITUDE: 46 41 15.00000
PRODUCTION_DATE: 2001 9 24
RASTER_ORDER: LEFT_RIGHT/TOP_BOTTOM
BAND_ORGANIZATION: SINGLE FILE
BAND_CONTENT: BLACK&WHITE
BAND_CONTENT: UNDEFINED
BAND_CONTENT: UNDEFINED
BITS_PER_PIXEL: 8
SAMPLES_AND_LINES: 5457 7578
HORIZONTAL_DATUM: NAD83
HORIZONTAL_COORDINATE_SYSTEM: UTM
COORDINATE_ZONE: 13
HORIZONTAL_UNITS: meters
HORIZONTAL_RESOLUTION: 1.00000
SECONDARY_HORIZONTAL_DATUM: NAD27
XY_ORIGIN: 523524.00000 5177758.00000
SECONDARY_XY_ORIGIN: 523563.94300 5177538.72700
NATION: US
STATE: MT
NW_QUAD_CORNER_XY: 523868.57600 5177430.53700
NE_QUAD_CORNER_XY: 528642.28700 5177451.39800
SE_QUAD_CORNERY_XY: 528675.37900 5170506.35100
SW_QUAD_CORNER_XY: 523896.15200 5170485.48800
SECONDARY_NW_QUAD_XY: 523869.30700 5177212.12400
SECONDARY_NE_QUAD_XY: 528643.16500 5177232.98600
SECONDARY_SE_QUAD_XY: 528676.25700 5170287.97200
SECONDARY_SW_QUAD_XY: 523896.88400 5170267.10700
RMSE_XY: 2.14000
IMAGE_SOURCE: BLACK AND WHITE FILM
SOURCE_IMAGE_ID: NAPP 9080-056
SOURCE_IMAGE_DATE: 1996 6 12
SOURCE_DEM_DATE: 1999 0 0
AGENCY: WESTERN MAPPING CENTER (WMC)
PRODUCER: WOOLPERT LLP
PRODUCTION_SYSTEM: INTERGRAPH ISPM, ISIR
COMPRESSION: UNDEFINED
STANDARD_VERSION: 1996 12
METADATA_DATE: 2001 10 10
DATA_FILE_SIZE: 41358603
BYTE_COUNT: 5457
