FILENAME: O4610419.NWS.1163637.tif
QUADRANGLE_NAME: DOROTHY DRAW
QUADRANT: NW
WEST_LONGITUDE: -104 45 0.00000
EAST_LONGITUDE: -104 41 15.00000
NORTH_LATITUDE: 46 45 0.00000
SOUTH_LATITUDE: 46 41 15.00000
PRODUCTION_DATE: 2001 9 24
RASTER_ORDER: LEFT_RIGHT/TOP_BOTTOM
BAND_ORGANIZATION: SINGLE FILE
BAND_CONTENT: BLACK&WHITE
BAND_CONTENT: UNDEFINED
BAND_CONTENT: UNDEFINED
BITS_PER_PIXEL: 8
SAMPLES_AND_LINES: 5452 7574
HORIZONTAL_DATUM: NAD83
HORIZONTAL_COORDINATE_SYSTEM: UTM
COORDINATE_ZONE: 13
HORIZONTAL_UNITS: meters
HORIZONTAL_RESOLUTION: 1.00000
SECONDARY_HORIZONTAL_DATUM: NAD27
XY_ORIGIN: 518750.00000 5177737.00000
SECONDARY_XY_ORIGIN: 518790.02100 5177517.72800
NATION: US
STATE: MT
NW_QUAD_CORNER_XY: 519094.86300 5177413.46900
NE_QUAD_CORNER_XY: 523868.57600 5177430.53700
SE_QUAD_CORNERY_XY: 523896.15200 5170485.48800
SW_QUAD_CORNER_XY: 519116.92400 5170468.41700
SECONDARY_NW_QUAD_XY: 519095.44800 5177195.05600
SECONDARY_NE_QUAD_XY: 523869.30700 5177212.12400
SECONDARY_SE_QUAD_XY: 523896.88400 5170267.10700
SECONDARY_SW_QUAD_XY: 519117.50900 5170250.03700
RMSE_XY: 1.99000
IMAGE_SOURCE: BLACK AND WHITE FILM
SOURCE_IMAGE_ID: NAPP 9080-205
SOURCE_IMAGE_DATE: 1996 6 12
SOURCE_DEM_DATE: 1999 0 0
AGENCY: WESTERN MAPPING CENTER (WMC)
PRODUCER: WOOLPERT LLP
PRODUCTION_SYSTEM: INTERGRAPH ISPM, ISIR
COMPRESSION: UNDEFINED
STANDARD_VERSION: 1996 12
METADATA_DATE: 2001 10 10
DATA_FILE_SIZE: 41298900
BYTE_COUNT: 5452
