FILENAME: O4610419.SWS.1163639.tif
QUADRANGLE_NAME: DOROTHY DRAW
QUADRANT: SW
WEST_LONGITUDE: -104 45 0.00000
EAST_LONGITUDE: -104 41 15.00000
NORTH_LATITUDE: 46 41 15.00000
SOUTH_LATITUDE: 46 37 30.00000
PRODUCTION_DATE: 2001 9 24
RASTER_ORDER: LEFT_RIGHT/TOP_BOTTOM
BAND_ORGANIZATION: SINGLE FILE
BAND_CONTENT: BLACK&WHITE
BAND_CONTENT: UNDEFINED
BAND_CONTENT: UNDEFINED
BITS_PER_PIXEL: 8
SAMPLES_AND_LINES: 5457 7574
HORIZONTAL_DATUM: NAD83
HORIZONTAL_COORDINATE_SYSTEM: UTM
COORDINATE_ZONE: 13
HORIZONTAL_UNITS: meters
HORIZONTAL_RESOLUTION: 1.00000
SECONDARY_HORIZONTAL_DATUM: NAD27
XY_ORIGIN: 518772.00000 5170792.00000
SECONDARY_XY_ORIGIN: 518812.04400 5170572.84900
NATION: US
STATE: MT
NW_QUAD_CORNER_XY: 519116.92400 5170468.41700
NE_QUAD_CORNER_XY: 523896.15200 5170485.48800
SE_QUAD_CORNERY_XY: 523923.70000 5163540.51400
SW_QUAD_CORNER_XY: 519138.96200 5163523.44200
SECONDARY_NW_QUAD_XY: 519117.50900 5170250.03700
SECONDARY_NE_QUAD_XY: 523896.88400 5170267.10700
SECONDARY_SE_QUAD_XY: 523924.43100 5163322.16700
SECONDARY_SW_QUAD_XY: 519139.54700 5163305.09400
RMSE_XY: 2.34000
IMAGE_SOURCE: BLACK AND WHITE FILM
SOURCE_IMAGE_ID: NAPP 9080-207
SOURCE_IMAGE_DATE: 1996 6 12
SOURCE_IMAGE_ID: NAPP 9080-208
SOURCE_IMAGE_DATE: 1996 6 12
SOURCE_DEM_DATE: 1999 0 0
AGENCY: WESTERN MAPPING CENTER (WMC)
PRODUCER: WOOLPERT LLP
PRODUCTION_SYSTEM: INTERGRAPH ISPM, ISIR
COMPRESSION: UNDEFINED
STANDARD_VERSION: 1996 12
METADATA_DATE: 2001 10 10
DATA_FILE_SIZE: 41336775
BYTE_COUNT: 5457
