FILENAME: O4610417.SWS.1163663.tif
QUADRANGLE_NAME: MILDRED
QUADRANT: SW
WEST_LONGITUDE: -105 0 0.00000
EAST_LONGITUDE: -104 56 15.00000
NORTH_LATITUDE: 46 41 15.00000
SOUTH_LATITUDE: 46 37 30.00000
PRODUCTION_DATE: 2001 9 24
RASTER_ORDER: LEFT_RIGHT/TOP_BOTTOM
BAND_ORGANIZATION: SINGLE FILE
BAND_CONTENT: BLACK&WHITE
BAND_CONTENT: UNDEFINED
BAND_CONTENT: UNDEFINED
BITS_PER_PIXEL: 8
SAMPLES_AND_LINES: 5436 7558
HORIZONTAL_DATUM: NAD83
HORIZONTAL_COORDINATE_SYSTEM: UTM
COORDINATE_ZONE: 13
HORIZONTAL_UNITS: meters
HORIZONTAL_RESOLUTION: 1.00000
SECONDARY_HORIZONTAL_DATUM: NAD27
XY_ORIGIN: 499654.00000 5170746.00000
SECONDARY_XY_ORIGIN: 499694.29600 5170526.85500
NATION: US
STATE: MT
NW_QUAD_CORNER_XY: 500000.00000 5170438.07100
NE_QUAD_CORNER_XY: 504779.23200 5170439.96700
SE_QUAD_CORNERY_XY: 504784.74100 5163494.98800
SW_QUAD_CORNER_XY: 500000.00000 5163493.09100
SECONDARY_NW_QUAD_XY: 500000.00000 5170219.68900
SECONDARY_NE_QUAD_XY: 504779.37800 5170221.58600
SECONDARY_SE_QUAD_XY: 504784.88700 5163276.64000
SECONDARY_SW_QUAD_XY: 500000.00000 5163274.74300
RMSE_XY: 1.13000
IMAGE_SOURCE: BLACK AND WHITE FILM
SOURCE_IMAGE_ID: NAPP 9096-067
SOURCE_IMAGE_DATE: 1996 7 9
SOURCE_IMAGE_ID: NAPP 9108-174
SOURCE_IMAGE_DATE: 1996 8 8
SOURCE_IMAGE_ID: NAPP 9108-172
SOURCE_IMAGE_DATE: 1996 8 8
SOURCE_IMAGE_ID: NAPP 9096-068
SOURCE_IMAGE_DATE: 1996 7 9
SOURCE_DEM_DATE: 1999 0 0
AGENCY: WESTERN MAPPING CENTER (WMC)
PRODUCER: WOOLPERT LLP
PRODUCTION_SYSTEM: INTERGRAPH ISPM, ISIR
COMPRESSION: UNDEFINED
STANDARD_VERSION: 1996 12
METADATA_DATE: 2001 10 9
DATA_FILE_SIZE: 41090724
BYTE_COUNT: 5436
