FILENAME: O4610415.SES.1159484.tif
QUADRANGLE_NAME: RED TOP BUTTE
QUADRANT: SE
WEST_LONGITUDE: -104 11 15.00000
EAST_LONGITUDE: -104 7 30.00000
NORTH_LATITUDE: 46 48 45.00000
SOUTH_LATITUDE: 46 45 0.00000
PRODUCTION_DATE: 2001 09 17
RASTER_ORDER: LEFT_RIGHT/TOP_BOTTOM
BAND_ORGANIZATION: SINGLE FILE
BAND_CONTENT: BLACK&WHITE
BAND_CONTENT: UNDEFINED
BAND_CONTENT: UNDEFINED
BITS_PER_PIXEL: 8
SAMPLES_AND_LINES: 5494 7608
HORIZONTAL_DATUM: NAD83
HORIZONTAL_COORDINATE_SYSTEM: UTM
COORDINATE_ZONE: 13
HORIZONTAL_UNITS: METERS
HORIZONTAL_RESOLUTION: 1.00000
SECONDARY_HORIZONTAL_DATUM: NAD27
XY_ORIGIN: 561643.00000 5185006.00000
SECONDARY_XY_ORIGIN: 561682.36800 5184786.56500
NATION: US
STATE: MT
NW_QUAD_CORNER_XY: 561986.41400 5184648.72200
NE_QUAD_CORNER_XY: 566754.57800 5184699.92200
SE_QUAD_CORNERY_XY: 566831.87700 5177754.84000
SW_QUAD_CORNER_XY: 562058.19100 5177703.63300
SECONDARY_NW_QUAD_XY: 561988.31700 5184430.28600
SECONDARY_NE_QUAD_XY: 566756.62700 5184481.48800
SECONDARY_SE_QUAD_XY: 566833.92500 5177536.43700
SECONDARY_SW_QUAD_XY: 562060.09300 5177485.22800
RMSE_XY: 2.34000
IMAGE_SOURCE: BLACK AND WHITE FILM
SOURCE_IMAGE_ID: NAPP 10766-120
SOURCE_IMAGE_DATE: 1998 07 10
SOURCE_DEM_DATE: 1999 00 00
AGENCY: WESTERN MAPPING CENTER (WMC)
PRODUCER: WOOLPERT LLP
PRODUCTION_SYSTEM: INTERGRAPH ISPM, ISIR
COMPRESSION: UNDEFINED
STANDARD_VERSION: 1996 12
METADATA_DATE: 2001 9 19
DATA_FILE_SIZE: 41803846
BYTE_COUNT: 5494
