FILENAME: O4610415.SWS.1159485.tif
QUADRANGLE_NAME: RED TOP BUTTE
QUADRANT: SW
WEST_LONGITUDE: -104 15 0.00000
EAST_LONGITUDE: -104 11 15.00000
NORTH_LATITUDE: 46 48 45.00000
SOUTH_LATITUDE: 46 45 0.00000
PRODUCTION_DATE: 2001 09 17
RASTER_ORDER: LEFT_RIGHT/TOP_BOTTOM
BAND_ORGANIZATION: SINGLE FILE
BAND_CONTENT: BLACK&WHITE
BAND_CONTENT: UNDEFINED
BAND_CONTENT: UNDEFINED
BITS_PER_PIXEL: 8
SAMPLES_AND_LINES: 5489 7604
HORIZONTAL_DATUM: NAD83
HORIZONTAL_COORDINATE_SYSTEM: UTM
COORDINATE_ZONE: 13
HORIZONTAL_UNITS: METERS
HORIZONTAL_RESOLUTION: 1.00000
SECONDARY_HORIZONTAL_DATUM: NAD27
XY_ORIGIN: 556875.00000 5184955.00000
SECONDARY_XY_ORIGIN: 556914.40200 5184735.54400
NATION: US
STATE: MT
NW_QUAD_CORNER_XY: 557218.24600 5184601.31500
NE_QUAD_CORNER_XY: 561986.41400 5184648.72200
SE_QUAD_CORNERY_XY: 562058.19100 5177703.63300
SW_QUAD_CORNER_XY: 557284.50100 5177656.21900
SECONDARY_NW_QUAD_XY: 557220.00300 5184382.87800
SECONDARY_NE_QUAD_XY: 561988.31700 5184430.28600
SECONDARY_SE_QUAD_XY: 562060.09300 5177485.22800
SECONDARY_SW_QUAD_XY: 557286.25700 5177437.81300
RMSE_XY: 2.29000
IMAGE_SOURCE: BLACK AND WHITE FILM
SOURCE_IMAGE_ID: NAPP 9123-238
SOURCE_IMAGE_DATE: 1997 08 03
SOURCE_DEM_DATE: 1999 00 00
AGENCY: WESTERN MAPPING CENTER (WMC)
PRODUCER: WOOLPERT LLP
PRODUCTION_SYSTEM: INTERGRAPH ISPM, ISIR
COMPRESSION: UNDEFINED
STANDARD_VERSION: 1996 12
METADATA_DATE: 2001 9 19
DATA_FILE_SIZE: 41743845
BYTE_COUNT: 5489
