FILENAME: O4610413.SWS.1159469.tif
QUADRANGLE_NAME: HODGES SW
QUADRANT: SW
WEST_LONGITUDE: -104 30 0.00000
EAST_LONGITUDE: -104 26 15.00000
NORTH_LATITUDE: 46 48 45.00000
SOUTH_LATITUDE: 46 45 0.00000
PRODUCTION_DATE: 2001 9 17
RASTER_ORDER: LEFT_RIGHT/TOP_BOTTOM
BAND_ORGANIZATION: SINGLE FILE
BAND_CONTENT: BLACK&WHITE
BAND_CONTENT: UNDEFINED
BAND_CONTENT: UNDEFINED
BITS_PER_PIXEL: 8
SAMPLES_AND_LINES: 5467 7589
HORIZONTAL_DATUM: NAD83
HORIZONTAL_COORDINATE_SYSTEM: UTM
COORDINATE_ZONE: 13
HORIZONTAL_UNITS: meters
HORIZONTAL_RESOLUTION: 1.00000
SECONDARY_HORIZONTAL_DATUM: NAD27
XY_ORIGIN: 537802.00000 5184788.00000
SECONDARY_XY_ORIGIN: 537841.68800 5184568.63500
NATION: US
STATE: MT
NW_QUAD_CORNER_XY: 538145.53500 5184449.61500
NE_QUAD_CORNER_XY: 542913.71800 5184481.85100
SE_QUAD_CORNERY_XY: 542963.40800 5177536.73900
SW_QUAD_CORNER_XY: 538189.70300 5177504.49900
SECONDARY_NW_QUAD_XY: 538146.70600 5184231.17300
SECONDARY_NE_QUAD_XY: 542915.03500 5184263.41000
SECONDARY_SE_QUAD_XY: 542964.72500 5177318.33000
SECONDARY_SW_QUAD_XY: 538190.87400 5177286.08900
RMSE_XY: 1.32000
IMAGE_SOURCE: BLACK AND WHITE FILM
SOURCE_IMAGE_ID: NAPP 9107-018
SOURCE_IMAGE_DATE: 1996 8 7
SOURCE_IMAGE_ID: NAPP 9107-019
SOURCE_IMAGE_DATE: 1996 8 7
SOURCE_IMAGE_ID: NAPP 9107-017
SOURCE_IMAGE_DATE: 1996 8 7
SOURCE_DEM_DATE: 1999 0 0
AGENCY: WESTERN MAPPING CENTER (WMC)
PRODUCER: WOOLPERT LLP
PRODUCTION_SYSTEM: INTERGRAPH ISPM, ISIR
COMPRESSION: UNDEFINED
STANDARD_VERSION: 1996 12
METADATA_DATE: 2001 9 27
DATA_FILE_SIZE: 41494530
BYTE_COUNT: 5467
