FILENAME: O4610412.NES.1163648.tif
QUADRANGLE_NAME: GRAVEYARD HILL
QUADRANT: NE
WEST_LONGITUDE: -104 33 45.00000
EAST_LONGITUDE: -104 30 0.00000
NORTH_LATITUDE: 46 52 30.00000
SOUTH_LATITUDE: 46 48 45.00000
PRODUCTION_DATE: 2001 9 24
RASTER_ORDER: LEFT_RIGHT/TOP_BOTTOM
BAND_ORGANIZATION: SINGLE FILE
BAND_CONTENT: BLACK&WHITE
BAND_CONTENT: UNDEFINED
BAND_CONTENT: UNDEFINED
BITS_PER_PIXEL: 8
SAMPLES_AND_LINES: 5457 7585
HORIZONTAL_DATUM: NAD83
HORIZONTAL_COORDINATE_SYSTEM: UTM
COORDINATE_ZONE: 13
HORIZONTAL_UNITS: meters
HORIZONTAL_RESOLUTION: 1.00000
SECONDARY_HORIZONTAL_DATUM: NAD27
XY_ORIGIN: 532994.00000 5191701.00000
SECONDARY_XY_ORIGIN: 533033.74100 5191481.54200
NATION: US
STATE: MT
NW_QUAD_CORNER_XY: 533338.66200 5191366.36700
NE_QUAD_CORNER_XY: 538101.32100 5191394.80600
SE_QUAD_CORNERY_XY: 538145.53500 5184449.61500
SW_QUAD_CORNER_XY: 533377.34900 5184421.17100
SECONDARY_NW_QUAD_XY: 533339.68700 5191147.89300
SECONDARY_NE_QUAD_XY: 538102.49200 5191176.33400
SECONDARY_SE_QUAD_XY: 538146.70600 5184231.17300
SECONDARY_SW_QUAD_XY: 533378.37400 5184202.72900
RMSE_XY: 2.25000
IMAGE_SOURCE: BLACK AND WHITE FILM
SOURCE_IMAGE_ID: NAPP 9108-077
SOURCE_IMAGE_DATE: 1996 8 8
SOURCE_IMAGE_ID: NAPP 9108-076
SOURCE_IMAGE_DATE: 1996 8 8
SOURCE_DEM_DATE: 1999 0 0
AGENCY: WESTERN MAPPING CENTER (WMC)
PRODUCER: WOOLPERT LLP
PRODUCTION_SYSTEM: INTERGRAPH ISPM, ISIR
COMPRESSION: UNDEFINED
STANDARD_VERSION: 1996 12
METADATA_DATE: 2001 10 10
DATA_FILE_SIZE: 41396802
BYTE_COUNT: 5457
