FILENAME: O4610411.NES.1163632.tif
QUADRANGLE_NAME: GRAVEYARD HILL SW
QUADRANT: NE
WEST_LONGITUDE: -104 41 15.00000
EAST_LONGITUDE: -104 37 30.00000
NORTH_LATITUDE: 46 52 30.00000
SOUTH_LATITUDE: 46 48 45.00000
PRODUCTION_DATE: 2001 9 24
RASTER_ORDER: LEFT_RIGHT/TOP_BOTTOM
BAND_ORGANIZATION: SINGLE FILE
BAND_CONTENT: BLACK&WHITE
BAND_CONTENT: UNDEFINED
BAND_CONTENT: UNDEFINED
BITS_PER_PIXEL: 8
SAMPLES_AND_LINES: 5446 7578
HORIZONTAL_DATUM: NAD83
HORIZONTAL_COORDINATE_SYSTEM: UTM
COORDINATE_ZONE: 13
HORIZONTAL_UNITS: meters
HORIZONTAL_RESOLUTION: 1.00000
SECONDARY_HORIZONTAL_DATUM: NAD27
XY_ORIGIN: 523469.00000 5191648.00000
SECONDARY_XY_ORIGIN: 523508.88600 5191428.53800
NATION: US
STATE: MT
NW_QUAD_CORNER_XY: 523813.33700 5191320.86400
NE_QUAD_CORNER_XY: 528576.00100 5191341.71900
SE_QUAD_CORNERY_XY: 528609.16100 5184396.52100
SW_QUAD_CORNER_XY: 523840.97100 5184375.66300
SECONDARY_NW_QUAD_XY: 523814.06900 5191102.38900
SECONDARY_NE_QUAD_XY: 528576.87900 5191123.24500
SECONDARY_SE_QUAD_XY: 528610.03900 5184178.07700
SECONDARY_SW_QUAD_XY: 523841.70200 5184157.21900
RMSE_XY: 2.41000
IMAGE_SOURCE: BLACK AND WHITE FILM
SOURCE_IMAGE_ID: NAPP 9080-060
SOURCE_IMAGE_DATE: 1996 6 12
SOURCE_IMAGE_ID: NAPP 9080-202
SOURCE_IMAGE_DATE: 1996 6 12
SOURCE_IMAGE_ID: NAPP 9108-035
SOURCE_IMAGE_DATE: 1996 8 8
SOURCE_DEM_DATE: 1999 0 0
AGENCY: WESTERN MAPPING CENTER (WMC)
PRODUCER: WOOLPERT LLP
PRODUCTION_SYSTEM: INTERGRAPH ISPM, ISIR
COMPRESSION: UNDEFINED
STANDARD_VERSION: 1996 12
METADATA_DATE: 2001 10 10
DATA_FILE_SIZE: 41275234
BYTE_COUNT: 5446
