FILENAME: O4610411.NWS.1163633.tif
QUADRANGLE_NAME: GRAVEYARD HILL SW
QUADRANT: NW
WEST_LONGITUDE: -104 45 0.00000
EAST_LONGITUDE: -104 41 15.00000
NORTH_LATITUDE: 46 52 30.00000
SOUTH_LATITUDE: 46 48 45.00000
PRODUCTION_DATE: 2001 9 24
RASTER_ORDER: LEFT_RIGHT/TOP_BOTTOM
BAND_ORGANIZATION: SINGLE FILE
BAND_CONTENT: BLACK&WHITE
BAND_CONTENT: UNDEFINED
BAND_CONTENT: UNDEFINED
BITS_PER_PIXEL: 8
SAMPLES_AND_LINES: 5440 7574
HORIZONTAL_DATUM: NAD83
HORIZONTAL_COORDINATE_SYSTEM: UTM
COORDINATE_ZONE: 13
HORIZONTAL_UNITS: meters
HORIZONTAL_RESOLUTION: 1.00000
SECONDARY_HORIZONTAL_DATUM: NAD27
XY_ORIGIN: 518706.00000 5191627.00000
SECONDARY_XY_ORIGIN: 518745.95900 5191407.53500
NATION: US
STATE: MT
NW_QUAD_CORNER_XY: 519050.67200 5191303.80100
NE_QUAD_CORNER_XY: 523813.33700 5191320.86400
SE_QUAD_CORNERY_XY: 523840.97100 5184375.66300
SW_QUAD_CORNER_XY: 519072.77900 5184358.59700
SECONDARY_NW_QUAD_XY: 519051.25700 5191085.32500
SECONDARY_NE_QUAD_XY: 523814.06900 5191102.38900
SECONDARY_SE_QUAD_XY: 523841.70200 5184157.21900
SECONDARY_SW_QUAD_XY: 519073.36400 5184140.15200
RMSE_XY: 1.84000
IMAGE_SOURCE: BLACK AND WHITE FILM
SOURCE_IMAGE_ID: NAPP 9080-201
SOURCE_IMAGE_DATE: 1996 6 12
SOURCE_IMAGE_ID: NAPP 9080-200
SOURCE_IMAGE_DATE: 1996 6 12
SOURCE_IMAGE_ID: NAPP 9080-202
SOURCE_IMAGE_DATE: 1996 6 12
SOURCE_DEM_DATE: 1999 0 0
AGENCY: WESTERN MAPPING CENTER (WMC)
PRODUCER: WOOLPERT LLP
PRODUCTION_SYSTEM: INTERGRAPH ISPM, ISIR
COMPRESSION: UNDEFINED
STANDARD_VERSION: 1996 12
METADATA_DATE: 2001 10 10
DATA_FILE_SIZE: 41208000
BYTE_COUNT: 5440
