FILENAME: O4610410.NES.1163668.tif
QUADRANGLE_NAME: SIMONS BUTTE
QUADRANT: NE
WEST_LONGITUDE: -104 48 45.00000
EAST_LONGITUDE: -104 45 0.00000
NORTH_LATITUDE: 46 52 30.00000
SOUTH_LATITUDE: 46 48 45.00000
PRODUCTION_DATE: 2001 9 24
RASTER_ORDER: LEFT_RIGHT/TOP_BOTTOM
BAND_ORGANIZATION: SINGLE FILE
BAND_CONTENT: BLACK&WHITE
BAND_CONTENT: UNDEFINED
BAND_CONTENT: UNDEFINED
BITS_PER_PIXEL: 8
SAMPLES_AND_LINES: 5435 7570
HORIZONTAL_DATUM: NAD83
HORIZONTAL_COORDINATE_SYSTEM: UTM
COORDINATE_ZONE: 13
HORIZONTAL_UNITS: meters
HORIZONTAL_RESOLUTION: 1.00000
SECONDARY_HORIZONTAL_DATUM: NAD27
XY_ORIGIN: 513943.00000 5191610.00000
SECONDARY_XY_ORIGIN: 513983.02400 5191390.53900
NATION: US
STATE: MT
NW_QUAD_CORNER_XY: 514288.00500 5191290.52900
NE_QUAD_CORNER_XY: 519050.67200 5191303.80100
SE_QUAD_CORNERY_XY: 519072.77900 5184358.59700
SW_QUAD_CORNER_XY: 514304.58500 5184345.32300
SECONDARY_NW_QUAD_XY: 514288.44400 5191072.05400
SECONDARY_NE_QUAD_XY: 519051.25700 5191085.32500
SECONDARY_SE_QUAD_XY: 519073.36400 5184140.15200
SECONDARY_SW_QUAD_XY: 514305.02400 5184126.87900
RMSE_XY: 2.65000
IMAGE_SOURCE: BLACK AND WHITE FILM
SOURCE_IMAGE_ID: NAPP 9081-016
SOURCE_IMAGE_DATE: 1996 6 12
SOURCE_IMAGE_ID: NAPP 9081-015
SOURCE_IMAGE_DATE: 1996 6 12
SOURCE_DEM_DATE: 1999 0 0
AGENCY: WESTERN MAPPING CENTER (WMC)
PRODUCER: WOOLPERT LLP
PRODUCTION_SYSTEM: INTERGRAPH ISPM, ISIR
COMPRESSION: UNDEFINED
STANDARD_VERSION: 1996 12
METADATA_DATE: 2001 10 10
DATA_FILE_SIZE: 41148385
BYTE_COUNT: 5435
