FILENAME: O4610410.SES.1163670.tif
QUADRANGLE_NAME: SIMONS BUTTE
QUADRANT: SE
WEST_LONGITUDE: -104 48 45.00000
EAST_LONGITUDE: -104 45 0.00000
NORTH_LATITUDE: 46 48 45.00000
SOUTH_LATITUDE: 46 45 0.00000
PRODUCTION_DATE: 2001 9 24
RASTER_ORDER: LEFT_RIGHT/TOP_BOTTOM
BAND_ORGANIZATION: SINGLE FILE
BAND_CONTENT: BLACK&WHITE
BAND_CONTENT: UNDEFINED
BAND_CONTENT: UNDEFINED
BITS_PER_PIXEL: 8
SAMPLES_AND_LINES: 5441 7570
HORIZONTAL_DATUM: NAD83
HORIZONTAL_COORDINATE_SYSTEM: UTM
COORDINATE_ZONE: 13
HORIZONTAL_UNITS: meters
HORIZONTAL_RESOLUTION: 1.00000
SECONDARY_HORIZONTAL_DATUM: NAD27
XY_ORIGIN: 513959.00000 5184665.00000
SECONDARY_XY_ORIGIN: 513999.05500 5184445.63700
NATION: US
STATE: MT
NW_QUAD_CORNER_XY: 514304.58500 5184345.32300
NE_QUAD_CORNER_XY: 519072.77900 5184358.59700
SE_QUAD_CORNERY_XY: 519094.86300 5177413.46900
SW_QUAD_CORNER_XY: 514321.14800 5177400.19400
SECONDARY_NW_QUAD_XY: 514305.02400 5184126.87900
SECONDARY_NE_QUAD_XY: 519073.36400 5184140.15200
SECONDARY_SE_QUAD_XY: 519095.44800 5177195.05600
SECONDARY_SW_QUAD_XY: 514321.58700 5177181.78000
RMSE_XY: 2.76000
IMAGE_SOURCE: BLACK AND WHITE FILM
SOURCE_IMAGE_ID: NAPP 9081-014
SOURCE_IMAGE_DATE: 1996 6 12
SOURCE_IMAGE_ID: NAPP 9081-015
SOURCE_IMAGE_DATE: 1996 6 12
SOURCE_DEM_DATE: 1999 0 0
AGENCY: WESTERN MAPPING CENTER (WMC)
PRODUCER: WOOLPERT LLP
PRODUCTION_SYSTEM: INTERGRAPH ISPM, ISIR
COMPRESSION: UNDEFINED
STANDARD_VERSION: 1996 12
METADATA_DATE: 2001 10 10
DATA_FILE_SIZE: 41193811
BYTE_COUNT: 5441
