FILENAME: O4610405.NES.1159407.tif
QUADRANGLE_NAME: HODGES
QUADRANT: NE
WEST_LONGITUDE: -104 26 15.00000
EAST_LONGITUDE: -104 22 30.00000
NORTH_LATITUDE: 47 0 0.00000
SOUTH_LATITUDE: 46 56 15.00000
PRODUCTION_DATE: 2001 9 15
RASTER_ORDER: LEFT_RIGHT/TOP_BOTTOM
BAND_ORGANIZATION: SINGLE FILE
BAND_CONTENT: BLACK&WHITE
BAND_CONTENT: UNDEFINED
BAND_CONTENT: UNDEFINED
BITS_PER_PIXEL: 8
SAMPLES_AND_LINES: 5456 7593
HORIZONTAL_DATUM: NAD83
HORIZONTAL_COORDINATE_SYSTEM: UTM
COORDINATE_ZONE: 13
HORIZONTAL_UNITS: meters
HORIZONTAL_RESOLUTION: 1.00000
SECONDARY_HORIZONTAL_DATUM: NAD27
XY_ORIGIN: 542421.00000 5205660.00000
SECONDARY_XY_ORIGIN: 542460.55000 5205440.35600
NATION: US
STATE: MT
NW_QUAD_CORNER_XY: 542764.34000 5205317.63700
NE_QUAD_CORNER_XY: 547515.92100 5205353.65100
SE_QUAD_CORNERY_XY: 547571.30300 5198408.31800
SW_QUAD_CORNER_XY: 542814.18400 5198372.30000
SECONDARY_NW_QUAD_XY: 542765.65700 5205099.10800
SECONDARY_NE_QUAD_XY: 547517.38500 5205135.12200
SECONDARY_SE_QUAD_XY: 547572.76700 5198189.81800
SECONDARY_SW_QUAD_XY: 542815.50100 5198153.79900
RMSE_XY: 1.32000
IMAGE_SOURCE: BLACK AND WHITE FILM
SOURCE_IMAGE_ID: NAPP 9103-016
SOURCE_IMAGE_DATE: 1996 7 15
SOURCE_IMAGE_ID: NAPP 9108-088
SOURCE_IMAGE_DATE: 1996 8 8
SOURCE_IMAGE_ID: NAPP 9095-057
SOURCE_IMAGE_DATE: 1996 7 9
SOURCE_DEM_DATE: 1999 0 0
AGENCY: WESTERN MAPPING CENTER (WMC)
PRODUCER: WOOLPERT LLP
PRODUCTION_SYSTEM: INTERGRAPH ISPM, ISIR
COMPRESSION: UNDEFINED
STANDARD_VERSION: 1996 12
METADATA_DATE: 2001 9 27
DATA_FILE_SIZE: 41432864
BYTE_COUNT: 5456
