FILENAME: O4610405.NWS.1159408.tif
QUADRANGLE_NAME: HODGES
QUADRANT: NW
WEST_LONGITUDE: -104 30 0.00000
EAST_LONGITUDE: -104 26 15.00000
NORTH_LATITUDE: 47 0 0.00000
SOUTH_LATITUDE: 46 56 15.00000
PRODUCTION_DATE: 2001 9 15
RASTER_ORDER: LEFT_RIGHT/TOP_BOTTOM
BAND_ORGANIZATION: SINGLE FILE
BAND_CONTENT: BLACK&WHITE
BAND_CONTENT: UNDEFINED
BAND_CONTENT: UNDEFINED
BITS_PER_PIXEL: 8
SAMPLES_AND_LINES: 5451 7589
HORIZONTAL_DATUM: NAD83
HORIZONTAL_COORDINATE_SYSTEM: UTM
COORDINATE_ZONE: 13
HORIZONTAL_UNITS: meters
HORIZONTAL_RESOLUTION: 1.00000
SECONDARY_HORIZONTAL_DATUM: NAD27
XY_ORIGIN: 537669.00000 5205624.00000
SECONDARY_XY_ORIGIN: 537708.62700 5205404.36600
NATION: US
STATE: MT
NW_QUAD_CORNER_XY: 538012.75500 5205285.41500
NE_QUAD_CORNER_XY: 542764.34000 5205317.63700
SE_QUAD_CORNERY_XY: 542814.18400 5198372.30000
SW_QUAD_CORNER_XY: 538057.06100 5198340.07300
SECONDARY_NW_QUAD_XY: 538013.92600 5205066.88400
SECONDARY_NE_QUAD_XY: 542765.65700 5205099.10800
SECONDARY_SE_QUAD_XY: 542815.50100 5198153.79900
SECONDARY_SW_QUAD_XY: 538058.23200 5198121.57100
RMSE_XY: 1.21000
IMAGE_SOURCE: BLACK AND WHITE FILM
SOURCE_IMAGE_ID: NAPP 9108-088
SOURCE_IMAGE_DATE: 1996 8 8
SOURCE_IMAGE_ID: NAPP 9108-072
SOURCE_IMAGE_DATE: 1996 8 8
SOURCE_DEM_DATE: 1999 0 0
AGENCY: WESTERN MAPPING CENTER (WMC)
PRODUCER: WOOLPERT LLP
PRODUCTION_SYSTEM: INTERGRAPH ISPM, ISIR
COMPRESSION: UNDEFINED
STANDARD_VERSION: 1996 12
METADATA_DATE: 2001 9 27
DATA_FILE_SIZE: 41373090
BYTE_COUNT: 5451
