FILENAME: O4610405.SES.1159409.tif
QUADRANGLE_NAME: HODGES
QUADRANT: SE
WEST_LONGITUDE: -104 26 15.00000
EAST_LONGITUDE: -104 22 30.00000
NORTH_LATITUDE: 46 56 15.00000
SOUTH_LATITUDE: 46 52 30.00000
PRODUCTION_DATE: 2001 9 15
RASTER_ORDER: LEFT_RIGHT/TOP_BOTTOM
BAND_ORGANIZATION: SINGLE FILE
BAND_CONTENT: BLACK&WHITE
BAND_CONTENT: UNDEFINED
BAND_CONTENT: UNDEFINED
BITS_PER_PIXEL: 8
SAMPLES_AND_LINES: 5462 7593
HORIZONTAL_DATUM: NAD83
HORIZONTAL_COORDINATE_SYSTEM: UTM
COORDINATE_ZONE: 13
HORIZONTAL_UNITS: meters
HORIZONTAL_RESOLUTION: 1.00000
SECONDARY_HORIZONTAL_DATUM: NAD27
XY_ORIGIN: 542470.00000 5198715.00000
SECONDARY_XY_ORIGIN: 542509.57300 5198495.44100
NATION: US
STATE: MT
NW_QUAD_CORNER_XY: 542814.18400 5198372.30000
NE_QUAD_CORNER_XY: 547571.30300 5198408.31800
SE_QUAD_CORNERY_XY: 547626.62900 5191463.06100
SW_QUAD_CORNER_XY: 542863.97600 5191427.03700
SECONDARY_NW_QUAD_XY: 542815.50100 5198153.79900
SECONDARY_NE_QUAD_XY: 547572.76700 5198189.81800
SECONDARY_SE_QUAD_XY: 547628.09300 5191244.59100
SECONDARY_SW_QUAD_XY: 542865.29400 5191208.56600
RMSE_XY: 1.15000
IMAGE_SOURCE: BLACK AND WHITE FILM
SOURCE_IMAGE_ID: NAPP 9103-014
SOURCE_IMAGE_DATE: 1996 7 15
SOURCE_IMAGE_ID: NAPP 9108-086
SOURCE_IMAGE_DATE: 1996 8 8
SOURCE_IMAGE_ID: NAPP 9108-088
SOURCE_IMAGE_DATE: 1996 8 8
SOURCE_DEM_DATE: 1999 0 0
AGENCY: WESTERN MAPPING CENTER (WMC)
PRODUCER: WOOLPERT LLP
PRODUCTION_SYSTEM: INTERGRAPH ISPM, ISIR
COMPRESSION: UNDEFINED
STANDARD_VERSION: 1996 12
METADATA_DATE: 2001 9 27
DATA_FILE_SIZE: 41478428
BYTE_COUNT: 5462
