FILENAME: O4610405.SWS.1159410.tif
QUADRANGLE_NAME: HODGES
QUADRANT: SW
WEST_LONGITUDE: -104 30 0.00000
EAST_LONGITUDE: -104 26 15.00000
NORTH_LATITUDE: 46 56 15.00000
SOUTH_LATITUDE: 46 52 30.00000
PRODUCTION_DATE: 2001 9 15
RASTER_ORDER: LEFT_RIGHT/TOP_BOTTOM
BAND_ORGANIZATION: SINGLE FILE
BAND_CONTENT: BLACK&WHITE
BAND_CONTENT: UNDEFINED
BAND_CONTENT: UNDEFINED
BITS_PER_PIXEL: 8
SAMPLES_AND_LINES: 5456 7590
HORIZONTAL_DATUM: NAD83
HORIZONTAL_COORDINATE_SYSTEM: UTM
COORDINATE_ZONE: 13
HORIZONTAL_UNITS: meters
HORIZONTAL_RESOLUTION: 1.00000
SECONDARY_HORIZONTAL_DATUM: NAD27
XY_ORIGIN: 537713.00000 5198679.00000
SECONDARY_XY_ORIGIN: 537752.64900 5198459.45400
NATION: US
STATE: MT
NW_QUAD_CORNER_XY: 538057.06100 5198340.07300
NE_QUAD_CORNER_XY: 542814.18400 5198372.30000
SE_QUAD_CORNERY_XY: 542863.97600 5191427.03700
SW_QUAD_CORNER_XY: 538101.32100 5191394.80600
SECONDARY_NW_QUAD_XY: 538058.23200 5198121.57100
SECONDARY_NE_QUAD_XY: 542815.50100 5198153.79900
SECONDARY_SE_QUAD_XY: 542865.29400 5191208.56600
SECONDARY_SW_QUAD_XY: 538102.49200 5191176.33400
RMSE_XY: 1.19000
IMAGE_SOURCE: BLACK AND WHITE FILM
SOURCE_IMAGE_ID: NAPP 9108-086
SOURCE_IMAGE_DATE: 1996 8 8
SOURCE_IMAGE_ID: NAPP 9108-088
SOURCE_IMAGE_DATE: 1996 8 8
SOURCE_DEM_DATE: 1999 0 0
AGENCY: WESTERN MAPPING CENTER (WMC)
PRODUCER: WOOLPERT LLP
PRODUCTION_SYSTEM: INTERGRAPH ISPM, ISIR
COMPRESSION: UNDEFINED
STANDARD_VERSION: 1996 12
METADATA_DATE: 2001 9 27
DATA_FILE_SIZE: 41416496
BYTE_COUNT: 5456
