FILENAME: O4610403.NWS.1160712.tif
QUADRANGLE_NAME: UPPER MAGPIE RESERVOIR
QUADRANT: NW
WEST_LONGITUDE: -104 45 0.00000
EAST_LONGITUDE: -104 41 15.00000
NORTH_LATITUDE: 47 0 0.00000
SOUTH_LATITUDE: 46 56 15.00000
PRODUCTION_DATE: 2001 9 21
RASTER_ORDER: LEFT_RIGHT/TOP_BOTTOM
BAND_ORGANIZATION: SINGLE FILE
BAND_CONTENT: BLACK&WHITE
BAND_CONTENT: UNDEFINED
BAND_CONTENT: UNDEFINED
BITS_PER_PIXEL: 8
SAMPLES_AND_LINES: 5429 7574
HORIZONTAL_DATUM: NAD83
HORIZONTAL_COORDINATE_SYSTEM: UTM
COORDINATE_ZONE: 13
HORIZONTAL_UNITS: meters
HORIZONTAL_RESOLUTION: 1.00000
SECONDARY_HORIZONTAL_DATUM: NAD27
XY_ORIGIN: 518662.00000 5205518.00000
SECONDARY_XY_ORIGIN: 518701.89600 5205298.34700
NATION: US
STATE: MT
NW_QUAD_CORNER_XY: 519006.39000 5205194.43600
NE_QUAD_CORNER_XY: 523757.98400 5205211.49500
SE_QUAD_CORNERY_XY: 523785.67500 5198266.14100
SW_QUAD_CORNER_XY: 519028.54200 5198249.08000
SECONDARY_NW_QUAD_XY: 519006.97600 5204975.90200
SECONDARY_NE_QUAD_XY: 523758.71700 5204992.96100
SECONDARY_SE_QUAD_XY: 523786.40700 5198047.63700
SECONDARY_SW_QUAD_XY: 519029.12800 5198030.57600
RMSE_XY: 2.12000
IMAGE_SOURCE: BLACK AND WHITE FILM
SOURCE_IMAGE_ID: NAPP 9080-197
SOURCE_IMAGE_DATE: 1996 6 12
SOURCE_IMAGE_ID: NAPP 9080-196
SOURCE_IMAGE_DATE: 1996 6 12
SOURCE_IMAGE_ID: NAPP 9080-065
SOURCE_IMAGE_DATE: 1996 6 12
SOURCE_DEM_DATE: 1999 0 0
AGENCY: WESTERN MAPPING CENTER (WMC)
PRODUCER: WOOLPERT LLP
PRODUCTION_SYSTEM: INTERGRAPH ISPM, ISIR
COMPRESSION: UNDEFINED
STANDARD_VERSION: 1996 12
METADATA_DATE: 2001 10 3
DATA_FILE_SIZE: 41124675
BYTE_COUNT: 5429
