FILENAME: O4610536.SWS.1126593.tif
QUADRANGLE_NAME: THE KNOB
QUADRANT: SW
WEST_LONGITUDE: -105 37 30.00000
EAST_LONGITUDE: -105 33 45.00000
NORTH_LATITUDE: 46 26 15.00000
SOUTH_LATITUDE: 46 22 30.00000
PRODUCTION_DATE: 2001 1 18
RASTER_ORDER: LEFT_RIGHT/TOP_BOTTOM
BAND_ORGANIZATION: SINGLE FILE
BAND_CONTENT: BLACK&WHITE
BAND_CONTENT: UNDEFINED
BAND_CONTENT: UNDEFINED
BITS_PER_PIXEL: 8
SAMPLES_AND_LINES: 5509 7593
HORIZONTAL_DATUM: NAD83
HORIZONTAL_COORDINATE_SYSTEM: UTM
COORDINATE_ZONE: 13
HORIZONTAL_UNITS: meters
HORIZONTAL_RESOLUTION: 1.00000
SECONDARY_HORIZONTAL_DATUM: NAD27
XY_ORIGIN: 451585.00000 5143155.00000
SECONDARY_XY_ORIGIN: 451625.79800 5142936.03700
NATION: US
STATE: MT
NW_QUAD_CORNER_XY: 451987.69400 5142848.36900
NE_QUAD_CORNER_XY: 456788.91600 5142812.31500
SE_QUAD_CORNERY_XY: 456739.53600 5135867.65600
SW_QUAD_CORNER_XY: 451932.82700 5135903.71400
SECONDARY_NW_QUAD_XY: 451986.23200 5142630.13000
SECONDARY_NE_QUAD_XY: 456787.60000 5142594.07500
SECONDARY_SE_QUAD_XY: 456738.22100 5135649.45300
SECONDARY_SW_QUAD_XY: 451931.36500 5135685.51200
RMSE_XY: 2.23000
IMAGE_SOURCE: BLACK AND WHITE FILM
SOURCE_IMAGE_ID: NAPP 9105-050
SOURCE_IMAGE_DATE: 1996 8 1
SOURCE_IMAGE_ID: NAPP 9105-054
SOURCE_IMAGE_DATE: 1996 8 1
SOURCE_DEM_DATE: 1999 0 0
AGENCY: WESTERN MAPPING CENTER (WMC)
PRODUCER: WOOLPERT LLP
PRODUCTION_SYSTEM: INTERGRAPH ISPM, ISIR
COMPRESSION: UNDEFINED
STANDARD_VERSION: 1996 12
METADATA_DATE: 2001 1 31
DATA_FILE_SIZE: 41835346
BYTE_COUNT: 5509
