FILENAME: O4610534.NWS.1126571.tif
QUADRANGLE_NAME: MILES CITY
QUADRANT: NW
WEST_LONGITUDE: -105 52 30.00000
EAST_LONGITUDE: -105 48 45.00000
NORTH_LATITUDE: 46 30 0.00000
SOUTH_LATITUDE: 46 26 15.00000
PRODUCTION_DATE: 2001 1 17
RASTER_ORDER: LEFT_RIGHT/TOP_BOTTOM
BAND_ORGANIZATION: SINGLE FILE
BAND_CONTENT: BLACK&WHITE
BAND_CONTENT: UNDEFINED
BAND_CONTENT: UNDEFINED
BITS_PER_PIXEL: 8
SAMPLES_AND_LINES: 5527 7608
HORIZONTAL_DATUM: NAD83
HORIZONTAL_COORDINATE_SYSTEM: UTM
COORDINATE_ZONE: 13
HORIZONTAL_UNITS: meters
HORIZONTAL_RESOLUTION: 1.00000
SECONDARY_HORIZONTAL_DATUM: NAD27
XY_ORIGIN: 432434.00000 5150282.00000
SECONDARY_XY_ORIGIN: 432475.05600 5150062.89500
NATION: US
STATE: MT
NW_QUAD_CORNER_XY: 432859.73100 5149975.25400
NE_QUAD_CORNER_XY: 437655.44700 5149924.02200
SE_QUAD_CORNERY_XY: 437584.04300 5142979.30600
SW_QUAD_CORNER_XY: 432782.83300 5143030.54400
SECONDARY_NW_QUAD_XY: 432857.68300 5149756.98500
SECONDARY_NE_QUAD_XY: 437653.54600 5149705.75200
SECONDARY_SE_QUAD_XY: 437582.14300 5142761.07200
SECONDARY_SW_QUAD_XY: 432780.78600 5142812.31000
RMSE_XY: 2.08000
IMAGE_SOURCE: BLACK AND WHITE FILM
SOURCE_IMAGE_ID: NAPP 9086-034
SOURCE_IMAGE_DATE: 1996 6 13
SOURCE_IMAGE_ID: NAPP 10766-172
SOURCE_IMAGE_DATE: 1998 7 10
SOURCE_IMAGE_ID: NAPP 9088-056
SOURCE_IMAGE_DATE: 1996 7 7
SOURCE_DEM_DATE: 1999 0 0
AGENCY: WESTERN MAPPING CENTER (WMC)
PRODUCER: WOOLPERT LLP
PRODUCTION_SYSTEM: INTERGRAPH ISPM, ISIR
COMPRESSION: UNDEFINED
STANDARD_VERSION: 1996 12
METADATA_DATE: 2001 2 5
DATA_FILE_SIZE: 42054943
BYTE_COUNT: 5527
