FILENAME: O4610533.SES.1126560.tif
QUADRANGLE_NAME: BIG HILL
QUADRANT: SE
WEST_LONGITUDE: -105 56 15.00000
EAST_LONGITUDE: -105 52 30.00000
NORTH_LATITUDE: 46 26 15.00000
SOUTH_LATITUDE: 46 22 30.00000
PRODUCTION_DATE: 2001 1 17
RASTER_ORDER: LEFT_RIGHT/TOP_BOTTOM
BAND_ORGANIZATION: SINGLE FILE
BAND_CONTENT: BLACK&WHITE
BAND_CONTENT: UNDEFINED
BAND_CONTENT: UNDEFINED
BITS_PER_PIXEL: 8
SAMPLES_AND_LINES: 5537 7612
HORIZONTAL_DATUM: NAD83
HORIZONTAL_COORDINATE_SYSTEM: UTM
COORDINATE_ZONE: 13
HORIZONTAL_UNITS: meters
HORIZONTAL_RESOLUTION: 1.00000
SECONDARY_HORIZONTAL_DATUM: NAD27
XY_ORIGIN: 427551.00000 5143392.00000
SECONDARY_XY_ORIGIN: 427592.04600 5143172.95100
NATION: US
STATE: MT
NW_QUAD_CORNER_XY: 427981.62700 5143085.57700
NE_QUAD_CORNER_XY: 432782.83300 5143030.54400
SE_QUAD_CORNERY_XY: 432706.01700 5136085.90800
SW_QUAD_CORNER_XY: 427899.32300 5136140.94700
SECONDARY_NW_QUAD_XY: 427979.43400 5142867.34500
SECONDARY_NE_QUAD_XY: 432780.78600 5142812.31000
SECONDARY_SE_QUAD_XY: 432703.97000 5135867.71100
SECONDARY_SW_QUAD_XY: 427897.13000 5135922.75200
RMSE_XY: 1.78000
IMAGE_SOURCE: BLACK AND WHITE FILM
SOURCE_IMAGE_ID: NAPP 9088-055
SOURCE_IMAGE_DATE: 1996 7 7
SOURCE_IMAGE_ID: NAPP 9088-208
SOURCE_IMAGE_DATE: 1996 7 7
SOURCE_DEM_DATE: 1987 0 0
AGENCY: WESTERN MAPPING CENTER (WMC)
PRODUCER: WOOLPERT LLP
PRODUCTION_SYSTEM: INTERGRAPH ISPM, ISIR
COMPRESSION: UNDEFINED
STANDARD_VERSION: 1996 12
METADATA_DATE: 2001 1 31
DATA_FILE_SIZE: 42153181
BYTE_COUNT: 5537
