FILENAME: O4610532.NWS.1163629.tif
QUADRANGLE_NAME: LITTLE WHITNEY CREEK
QUADRANT: NW
WEST_LONGITUDE: -105 7 30.00000
EAST_LONGITUDE: -105 3 45.00000
NORTH_LATITUDE: 46 37 30.00000
SOUTH_LATITUDE: 46 33 45.00000
PRODUCTION_DATE: 2001 9 24
RASTER_ORDER: LEFT_RIGHT/TOP_BOTTOM
BAND_ORGANIZATION: SINGLE FILE
BAND_CONTENT: BLACK&WHITE
BAND_CONTENT: UNDEFINED
BAND_CONTENT: UNDEFINED
BITS_PER_PIXEL: 8
SAMPLES_AND_LINES: 5448 7562
HORIZONTAL_DATUM: NAD83
HORIZONTAL_COORDINATE_SYSTEM: UTM
COORDINATE_ZONE: 13
HORIZONTAL_UNITS: meters
HORIZONTAL_RESOLUTION: 1.00000
SECONDARY_HORIZONTAL_DATUM: NAD27
XY_ORIGIN: 490073.00000 5163807.00000
SECONDARY_XY_ORIGIN: 490113.46200 5163587.90600
NATION: US
STATE: MT
NW_QUAD_CORNER_XY: 490430.51800 5163500.67900
NE_QUAD_CORNER_XY: 495215.25900 5163494.98800
SE_QUAD_CORNERY_XY: 495209.75500 5156550.08500
SW_QUAD_CORNER_XY: 490419.51000 5156555.77700
SECONDARY_NW_QUAD_XY: 490430.22500 5163282.33000
SECONDARY_NE_QUAD_XY: 495215.11300 5163276.64000
SECONDARY_SE_QUAD_XY: 495209.60900 5156331.77100
SECONDARY_SW_QUAD_XY: 490419.21800 5156337.46200
RMSE_XY: 1.31000
IMAGE_SOURCE: BLACK AND WHITE FILM
SOURCE_IMAGE_ID: NAPP 9119-118
SOURCE_IMAGE_DATE: 1996 8 26
SOURCE_DEM_DATE: 1999 0 0
AGENCY: WESTERN MAPPING CENTER (WMC)
PRODUCER: WOOLPERT LLP
PRODUCTION_SYSTEM: INTERGRAPH ISPM, ISIR
COMPRESSION: UNDEFINED
STANDARD_VERSION: 1996 12
METADATA_DATE: 2001 10 10
DATA_FILE_SIZE: 41203224
BYTE_COUNT: 5448
