FILENAME: O4610531.SWS.1163627.tif
QUADRANGLE_NAME: FLAT TOP BUTTE SW
QUADRANT: SW
WEST_LONGITUDE: -105 15 0.00000
EAST_LONGITUDE: -105 11 15.00000
NORTH_LATITUDE: 46 33 45.00000
SOUTH_LATITUDE: 46 30 0.00000
PRODUCTION_DATE: 2001 9 24
RASTER_ORDER: LEFT_RIGHT/TOP_BOTTOM
BAND_ORGANIZATION: SINGLE FILE
BAND_CONTENT: BLACK&WHITE
BAND_CONTENT: UNDEFINED
BAND_CONTENT: UNDEFINED
BITS_PER_PIXEL: 8
SAMPLES_AND_LINES: 5465 7570
HORIZONTAL_DATUM: NAD83
HORIZONTAL_COORDINATE_SYSTEM: UTM
COORDINATE_ZONE: 13
HORIZONTAL_UNITS: meters
HORIZONTAL_RESOLUTION: 1.00000
SECONDARY_HORIZONTAL_DATUM: NAD27
XY_ORIGIN: 480470.00000 5156885.00000
SECONDARY_XY_ORIGIN: 480510.62500 5156665.95800
NATION: US
STATE: MT
NW_QUAD_CORNER_XY: 480839.02300 5156578.54200
NE_QUAD_CORNER_XY: 485629.26600 5156565.26300
SE_QUAD_CORNERY_XY: 485612.77200 5149620.43800
SW_QUAD_CORNER_XY: 480817.03100 5149633.71900
SECONDARY_NW_QUAD_XY: 480838.43800 5156360.22900
SECONDARY_NE_QUAD_XY: 485628.82800 5156346.94800
SECONDARY_SE_QUAD_XY: 485612.33400 5149402.15800
SECONDARY_SW_QUAD_XY: 480816.44600 5149415.44000
RMSE_XY: 1.29000
IMAGE_SOURCE: BLACK AND WHITE FILM
SOURCE_IMAGE_ID: NAPP 9119-230
SOURCE_IMAGE_DATE: 1996 8 26
SOURCE_IMAGE_ID: NAPP 9116-214
SOURCE_IMAGE_DATE: 1996 8 27
SOURCE_DEM_DATE: 1999 0 0
AGENCY: WESTERN MAPPING CENTER (WMC)
PRODUCER: WOOLPERT LLP
PRODUCTION_SYSTEM: INTERGRAPH ISPM, ISIR
COMPRESSION: UNDEFINED
STANDARD_VERSION: 1996 12
METADATA_DATE: 2001 10 9
DATA_FILE_SIZE: 41375515
BYTE_COUNT: 5465
