FILENAME: O4610530.SES.1163746.tif
QUADRANGLE_NAME: SPRING DRAW
QUADRANT: SE
WEST_LONGITUDE: -105 18 45.00000
EAST_LONGITUDE: -105 15 0.00000
NORTH_LATITUDE: 46 33 45.00000
SOUTH_LATITUDE: 46 30 0.00000
PRODUCTION_DATE: 2001 9 7
RASTER_ORDER: LEFT_RIGHT/TOP_BOTTOM
BAND_ORGANIZATION: SINGLE FILE
BAND_CONTENT: BLACK&WHITE
BAND_CONTENT: UNDEFINED
BAND_CONTENT: UNDEFINED
BITS_PER_PIXEL: 8
SAMPLES_AND_LINES: 5471 7574
HORIZONTAL_DATUM: NAD83
HORIZONTAL_COORDINATE_SYSTEM: UTM
COORDINATE_ZONE: 13
HORIZONTAL_UNITS: meters
HORIZONTAL_RESOLUTION: 1.00000
SECONDARY_HORIZONTAL_DATUM: NAD27
XY_ORIGIN: 475674.00000 5156902.00000
SECONDARY_XY_ORIGIN: 475714.65900 5156682.95100
NATION: US
STATE: MT
NW_QUAD_CORNER_XY: 476048.78100 5156595.61700
NE_QUAD_CORNER_XY: 480839.02300 5156578.54200
SE_QUAD_CORNERY_XY: 480817.03100 5149633.71900
SW_QUAD_CORNER_XY: 476021.29100 5149650.79500
SECONDARY_NW_QUAD_XY: 476048.05000 5156377.30300
SECONDARY_NE_QUAD_XY: 480838.43800 5156360.22900
SECONDARY_SE_QUAD_XY: 480816.44600 5149415.44000
SECONDARY_SW_QUAD_XY: 476020.56000 5149432.51700
RMSE_XY: 1.84000
IMAGE_SOURCE: BLACK AND WHITE FILM
SOURCE_IMAGE_ID: NAPP 9116-215
SOURCE_IMAGE_DATE: 1996 8 27
SOURCE_IMAGE_ID: NAPP 9116-214
SOURCE_IMAGE_DATE: 1996 8 27
SOURCE_IMAGE_ID: NAPP 9116-056
SOURCE_IMAGE_DATE: 1996 8 27
SOURCE_DEM_DATE: 1999 0 0
AGENCY: WESTERN MAPPING CENTER (WMC)
PRODUCER: WOOLPERT LLP
PRODUCTION_SYSTEM: INTERGRAPH ISPM, ISIR
COMPRESSION: UNDEFINED
STANDARD_VERSION: 1996 12
METADATA_DATE: 2001 9 18
DATA_FILE_SIZE: 41442825
BYTE_COUNT: 5471
