FILENAME: O4610523.SES.1163754.tif
QUADRANGLE_NAME: FLAT TOP BUTTE
QUADRANT: SE
WEST_LONGITUDE: -105 11 15.00000
EAST_LONGITUDE: -105 7 30.00000
NORTH_LATITUDE: 46 41 15.00000
SOUTH_LATITUDE: 46 37 30.00000
PRODUCTION_DATE: 2001 9 4
RASTER_ORDER: LEFT_RIGHT/TOP_BOTTOM
BAND_ORGANIZATION: SINGLE FILE
BAND_CONTENT: BLACK&WHITE
BAND_CONTENT: UNDEFINED
BAND_CONTENT: UNDEFINED
BITS_PER_PIXEL: 8
SAMPLES_AND_LINES: 5448 7566
HORIZONTAL_DATUM: NAD83
HORIZONTAL_COORDINATE_SYSTEM: UTM
COORDINATE_ZONE: 13
HORIZONTAL_UNITS: meters
HORIZONTAL_RESOLUTION: 1.00000
SECONDARY_HORIZONTAL_DATUM: NAD27
XY_ORIGIN: 485299.00000 5170761.00000
SECONDARY_XY_ORIGIN: 485339.52600 5170541.80100
NATION: US
STATE: MT
NW_QUAD_CORNER_XY: 485662.30600 5170455.14100
NE_QUAD_CORNER_XY: 490441.53700 5170445.65700
SE_QUAD_CORNERY_XY: 490430.51800 5163500.67900
SW_QUAD_CORNER_XY: 485645.77800 5163510.16400
SECONDARY_NW_QUAD_XY: 485661.86700 5170236.75900
SECONDARY_NE_QUAD_XY: 490441.24400 5170227.27600
SECONDARY_SE_QUAD_XY: 490430.22500 5163282.33000
SECONDARY_SW_QUAD_XY: 485645.33900 5163291.81500
RMSE_XY: 1.82000
IMAGE_SOURCE: BLACK AND WHITE FILM
SOURCE_IMAGE_ID: NAPP 9119-143
SOURCE_IMAGE_DATE: 1996 8 26
SOURCE_IMAGE_ID: NAPP 9119-142
SOURCE_IMAGE_DATE: 1996 8 26
SOURCE_IMAGE_ID: NAPP 9119-144
SOURCE_IMAGE_DATE: 1996 8 26
SOURCE_DEM_DATE: 1999 0 0
AGENCY: WESTERN MAPPING CENTER (WMC)
PRODUCER: WOOLPERT LLP
PRODUCTION_SYSTEM: INTERGRAPH ISPM, ISIR
COMPRESSION: UNDEFINED
STANDARD_VERSION: 1996 12
METADATA_DATE: 2001 9 10
DATA_FILE_SIZE: 41225016
BYTE_COUNT: 5448
