FILENAME: O4610520.NES.1163720.tif
QUADRANGLE_NAME: KINSEY NE
QUADRANT: NE
WEST_LONGITUDE: -105 33 45.00000
EAST_LONGITUDE: -105 30 0.00000
NORTH_LATITUDE: 46 45 0.00000
SOUTH_LATITUDE: 46 41 15.00000
PRODUCTION_DATE: 2001 9 10
RASTER_ORDER: LEFT_RIGHT/TOP_BOTTOM
BAND_ORGANIZATION: SINGLE FILE
BAND_CONTENT: BLACK&WHITE
BAND_CONTENT: UNDEFINED
BAND_CONTENT: UNDEFINED
BITS_PER_PIXEL: 8
SAMPLES_AND_LINES: 5477 7589
HORIZONTAL_DATUM: NAD83
HORIZONTAL_COORDINATE_SYSTEM: UTM
COORDINATE_ZONE: 13
HORIZONTAL_UNITS: meters
HORIZONTAL_RESOLUTION: 1.00000
SECONDARY_HORIZONTAL_DATUM: NAD27
XY_ORIGIN: 456639.00000 5177843.00000
SECONDARY_XY_ORIGIN: 456679.87900 5177623.63900
NATION: US
STATE: MT
NW_QUAD_CORNER_XY: 457036.59200 5177536.73900
NE_QUAD_CORNER_XY: 461810.29700 5177504.49900
SE_QUAD_CORNERY_XY: 461766.17400 5170559.45900
SW_QUAD_CORNER_XY: 456986.95400 5170591.70300
SECONDARY_NW_QUAD_XY: 457035.27500 5177318.33000
SECONDARY_NE_QUAD_XY: 461809.12600 5177286.08900
SECONDARY_SE_QUAD_XY: 461765.00300 5170341.08100
SECONDARY_SW_QUAD_XY: 456985.63700 5170373.32600
RMSE_XY: 2.10000
IMAGE_SOURCE: BLACK AND WHITE FILM
SOURCE_IMAGE_ID: NAPP 9094-015
SOURCE_IMAGE_DATE: 1996 7 9
SOURCE_IMAGE_ID: NAPP 9094-016
SOURCE_IMAGE_DATE: 1996 7 9
SOURCE_IMAGE_ID: NAPP 9105-041
SOURCE_IMAGE_DATE: 1996 8 1
SOURCE_DEM_DATE: 1999 0 0
AGENCY: WESTERN MAPPING CENTER (WMC)
PRODUCER: WOOLPERT LLP
PRODUCTION_SYSTEM: INTERGRAPH ISPM, ISIR
COMPRESSION: UNDEFINED
STANDARD_VERSION: 1996 12
METADATA_DATE: 2001 9 20
DATA_FILE_SIZE: 41570430
BYTE_COUNT: 5477
