FILENAME: O4610517.NWS.1126551.tif
QUADRANGLE_NAME: HORSE CREEK HILL
QUADRANT: NW
WEST_LONGITUDE: -106 0 0.00000
EAST_LONGITUDE: -105 56 15.00000
NORTH_LATITUDE: 46 45 0.00000
SOUTH_LATITUDE: 46 41 15.00000
PRODUCTION_DATE: 2001 1 17
RASTER_ORDER: LEFT_RIGHT/TOP_BOTTOM
BAND_ORGANIZATION: SINGLE FILE
BAND_CONTENT: BLACK&WHITE
BAND_CONTENT: UNDEFINED
BAND_CONTENT: UNDEFINED
BITS_PER_PIXEL: 8
SAMPLES_AND_LINES: 5517 7616
HORIZONTAL_DATUM: NAD83
HORIZONTAL_COORDINATE_SYSTEM: UTM
COORDINATE_ZONE: 13
HORIZONTAL_UNITS: meters
HORIZONTAL_RESOLUTION: 1.00000
SECONDARY_HORIZONTAL_DATUM: NAD27
XY_ORIGIN: 423183.00000 5178175.00000
SECONDARY_XY_ORIGIN: 423224.34200 5177955.65900
NATION: US
STATE: MT
NW_QUAD_CORNER_XY: 423620.76700 5177868.63500
NE_QUAD_CORNER_XY: 428394.44200 5177809.84000
SE_QUAD_CORNERY_XY: 428311.70700 5170864.83900
SW_QUAD_CORNER_XY: 423532.51500 5170923.64100
SECONDARY_NW_QUAD_XY: 423618.42500 5177650.23500
SECONDARY_NE_QUAD_XY: 428392.24700 5177591.43900
SECONDARY_SE_QUAD_XY: 428309.51300 5170646.47000
SECONDARY_SW_QUAD_XY: 423530.17400 5170705.27400
RMSE_XY: 1.89000
IMAGE_SOURCE: BLACK AND WHITE FILM
SOURCE_IMAGE_ID: NAPP 9088-197
SOURCE_IMAGE_DATE: 1996 7 7
SOURCE_DEM_DATE: 1987 0 0
AGENCY: WESTERN MAPPING CENTER (WMC)
PRODUCER: WOOLPERT LLP
PRODUCTION_SYSTEM: INTERGRAPH ISPM, ISIR
COMPRESSION: UNDEFINED
STANDARD_VERSION: 1996 12
METADATA_DATE: 2001 1 17
DATA_FILE_SIZE: 42022989
BYTE_COUNT: 5517
