FILENAME: O4610517.SES.1126552.tif
QUADRANGLE_NAME: HORSE CREEK HILL
QUADRANT: SE
WEST_LONGITUDE: -105 56 15.00000
EAST_LONGITUDE: -105 52 30.00000
NORTH_LATITUDE: 46 41 15.00000
SOUTH_LATITUDE: 46 37 30.00000
PRODUCTION_DATE: 2001 1 17
RASTER_ORDER: LEFT_RIGHT/TOP_BOTTOM
BAND_ORGANIZATION: SINGLE FILE
BAND_CONTENT: BLACK&WHITE
BAND_CONTENT: UNDEFINED
BAND_CONTENT: UNDEFINED
BITS_PER_PIXEL: 8
SAMPLES_AND_LINES: 5516 7612
HORIZONTAL_DATUM: NAD83
HORIZONTAL_COORDINATE_SYSTEM: UTM
COORDINATE_ZONE: 13
HORIZONTAL_UNITS: meters
HORIZONTAL_RESOLUTION: 1.00000
SECONDARY_HORIZONTAL_DATUM: NAD27
XY_ORIGIN: 427880.00000 5171171.00000
SECONDARY_XY_ORIGIN: 427921.23700 5170951.70800
NATION: US
STATE: MT
NW_QUAD_CORNER_XY: 428311.70700 5170864.83900
NE_QUAD_CORNER_XY: 433090.90500 5170809.83100
SE_QUAD_CORNERY_XY: 433013.76600 5163864.89800
SW_QUAD_CORNER_XY: 428229.05800 5163919.91200
SECONDARY_NW_QUAD_XY: 428309.51300 5170646.47000
SECONDARY_NE_QUAD_XY: 433088.85600 5170591.46100
SECONDARY_SE_QUAD_XY: 433011.71800 5163646.56000
SECONDARY_SW_QUAD_XY: 428226.86400 5163701.57600
RMSE_XY: 2.35000
IMAGE_SOURCE: BLACK AND WHITE FILM
SOURCE_IMAGE_ID: NAPP 9088-063
SOURCE_IMAGE_DATE: 1996 7 7
SOURCE_IMAGE_ID: NAPP 9088-062
SOURCE_IMAGE_DATE: 1996 7 7
SOURCE_DEM_DATE: 1987 0 0
AGENCY: WESTERN MAPPING CENTER (WMC)
PRODUCER: WOOLPERT LLP
PRODUCTION_SYSTEM: INTERGRAPH ISPM, ISIR
COMPRESSION: UNDEFINED
STANDARD_VERSION: 1996 12
METADATA_DATE: 2001 1 31
DATA_FILE_SIZE: 41993308
BYTE_COUNT: 5516
