FILENAME: O4610516.SWS.1163715.tif
QUADRANGLE_NAME: FALLON
QUADRANT: SW
WEST_LONGITUDE: -105 7 30.00000
EAST_LONGITUDE: -105 3 45.00000
NORTH_LATITUDE: 46 48 45.00000
SOUTH_LATITUDE: 46 45 0.00000
PRODUCTION_DATE: 2001 8 28
RASTER_ORDER: LEFT_RIGHT/TOP_BOTTOM
BAND_ORGANIZATION: SINGLE FILE
BAND_CONTENT: BLACK&WHITE
BAND_CONTENT: UNDEFINED
BAND_CONTENT: UNDEFINED
BITS_PER_PIXEL: 8
SAMPLES_AND_LINES: 5431 7562
HORIZONTAL_DATUM: NAD83
HORIZONTAL_COORDINATE_SYSTEM: UTM
COORDINATE_ZONE: 13
HORIZONTAL_UNITS: meters
HORIZONTAL_RESOLUTION: 1.00000
SECONDARY_HORIZONTAL_DATUM: NAD27
XY_ORIGIN: 490106.00000 5184642.00000
SECONDARY_XY_ORIGIN: 490146.41000 5184422.63000
NATION: US
STATE: MT
NW_QUAD_CORNER_XY: 490463.60900 5184335.84300
NE_QUAD_CORNER_XY: 495231.80400 5184330.15400
SE_QUAD_CORNERY_XY: 495226.28400 5177385.02300
SW_QUAD_CORNER_XY: 490452.56700 5177390.71200
SECONDARY_NW_QUAD_XY: 490463.31700 5184117.39700
SECONDARY_NE_QUAD_XY: 495231.65800 5184111.70900
SECONDARY_SE_QUAD_XY: 495226.13700 5177166.60900
SECONDARY_SW_QUAD_XY: 490452.27500 5177172.29800
RMSE_XY: 2.58000
IMAGE_SOURCE: BLACK AND WHITE FILM
SOURCE_IMAGE_ID: NAPP 9119-124
SOURCE_IMAGE_DATE: 1996 8 26
SOURCE_IMAGE_ID: NAPP 9119-123
SOURCE_IMAGE_DATE: 1996 8 26
SOURCE_DEM_DATE: 1999 0 0
AGENCY: WESTERN MAPPING CENTER (WMC)
PRODUCER: WOOLPERT LLP
PRODUCTION_SYSTEM: INTERGRAPH ISPM, ISIR
COMPRESSION: UNDEFINED
STANDARD_VERSION: 1996 12
METADATA_DATE: 2001 9 7
DATA_FILE_SIZE: 41074653
BYTE_COUNT: 5431
