FILENAME: O4610515.NES.1163748.tif
QUADRANGLE_NAME: FALLON SW
QUADRANT: NE
WEST_LONGITUDE: -105 11 15.00000
EAST_LONGITUDE: -105 7 30.00000
NORTH_LATITUDE: 46 52 30.00000
SOUTH_LATITUDE: 46 48 45.00000
PRODUCTION_DATE: 2001 9 4
RASTER_ORDER: LEFT_RIGHT/TOP_BOTTOM
BAND_ORGANIZATION: SINGLE FILE
BAND_CONTENT: BLACK&WHITE
BAND_CONTENT: UNDEFINED
BAND_CONTENT: UNDEFINED
BITS_PER_PIXEL: 8
SAMPLES_AND_LINES: 5431 7567
HORIZONTAL_DATUM: NAD83
HORIZONTAL_COORDINATE_SYSTEM: UTM
COORDINATE_ZONE: 13
HORIZONTAL_UNITS: meters
HORIZONTAL_RESOLUTION: 1.00000
SECONDARY_HORIZONTAL_DATUM: NAD27
XY_ORIGIN: 485349.00000 5191597.00000
SECONDARY_XY_ORIGIN: 485389.46400 5191377.52800
NATION: US
STATE: MT
NW_QUAD_CORNER_XY: 485711.99500 5191290.52900
NE_QUAD_CORNER_XY: 490474.66300 5191281.04900
SE_QUAD_CORNERY_XY: 490463.60900 5184335.84300
SW_QUAD_CORNER_XY: 485695.41500 5184345.32300
SECONDARY_NW_QUAD_XY: 485711.55600 5191072.05400
SECONDARY_NE_QUAD_XY: 490474.37000 5191062.57400
SECONDARY_SE_QUAD_XY: 490463.31700 5184117.39700
SECONDARY_SW_QUAD_XY: 485694.97600 5184126.87900
RMSE_XY: 2.03000
IMAGE_SOURCE: BLACK AND WHITE FILM
SOURCE_IMAGE_ID: NAPP 9119-137
SOURCE_IMAGE_DATE: 1996 8 26
SOURCE_IMAGE_ID: NAPP 9119-136
SOURCE_IMAGE_DATE: 1996 8 26
SOURCE_DEM_DATE: 1999 0 0
AGENCY: WESTERN MAPPING CENTER (WMC)
PRODUCER: WOOLPERT LLP
PRODUCTION_SYSTEM: INTERGRAPH ISPM, ISIR
COMPRESSION: UNDEFINED
STANDARD_VERSION: 1996 12
METADATA_DATE: 2001 9 10
DATA_FILE_SIZE: 41101808
BYTE_COUNT: 5431
