FILENAME: O4610515.NWS.1163749.tif
QUADRANGLE_NAME: FALLON SW
QUADRANT: NW
WEST_LONGITUDE: -105 15 0.00000
EAST_LONGITUDE: -105 11 15.00000
NORTH_LATITUDE: 46 52 30.00000
SOUTH_LATITUDE: 46 48 45.00000
PRODUCTION_DATE: 2001 9 4
RASTER_ORDER: LEFT_RIGHT/TOP_BOTTOM
BAND_ORGANIZATION: SINGLE FILE
BAND_CONTENT: BLACK&WHITE
BAND_CONTENT: UNDEFINED
BAND_CONTENT: UNDEFINED
BITS_PER_PIXEL: 8
SAMPLES_AND_LINES: 5436 7570
HORIZONTAL_DATUM: NAD83
HORIZONTAL_COORDINATE_SYSTEM: UTM
COORDINATE_ZONE: 13
HORIZONTAL_UNITS: meters
HORIZONTAL_RESOLUTION: 1.00000
SECONDARY_HORIZONTAL_DATUM: NAD27
XY_ORIGIN: 480581.00000 5191610.00000
SECONDARY_XY_ORIGIN: 480621.54400 5191390.52200
NATION: US
STATE: MT
NW_QUAD_CORNER_XY: 480949.32800 5191303.80100
NE_QUAD_CORNER_XY: 485711.99500 5191290.52900
SE_QUAD_CORNERY_XY: 485695.41500 5184345.32300
SW_QUAD_CORNER_XY: 480927.22100 5184358.59700
SECONDARY_NW_QUAD_XY: 480948.74300 5191085.32500
SECONDARY_NE_QUAD_XY: 485711.55600 5191072.05400
SECONDARY_SE_QUAD_XY: 485694.97600 5184126.87900
SECONDARY_SW_QUAD_XY: 480926.63600 5184140.15200
RMSE_XY: 2.07000
IMAGE_SOURCE: BLACK AND WHITE FILM
SOURCE_IMAGE_ID: NAPP 9119-240
SOURCE_IMAGE_DATE: 1996 8 26
SOURCE_IMAGE_ID: NAPP 9116-204
SOURCE_IMAGE_DATE: 1996 8 27
SOURCE_DEM_DATE: 1999 0 0
AGENCY: WESTERN MAPPING CENTER (WMC)
PRODUCER: WOOLPERT LLP
PRODUCTION_SYSTEM: INTERGRAPH ISPM, ISIR
COMPRESSION: UNDEFINED
STANDARD_VERSION: 1996 12
METADATA_DATE: 2001 9 24
DATA_FILE_SIZE: 41155956
BYTE_COUNT: 5436
