FILENAME: O4610515.SWS.1163751.tif
QUADRANGLE_NAME: FALLON SW
QUADRANT: SW
WEST_LONGITUDE: -105 15 0.00000
EAST_LONGITUDE: -105 11 15.00000
NORTH_LATITUDE: 46 48 45.00000
SOUTH_LATITUDE: 46 45 0.00000
PRODUCTION_DATE: 2001 9 4
RASTER_ORDER: LEFT_RIGHT/TOP_BOTTOM
BAND_ORGANIZATION: SINGLE FILE
BAND_CONTENT: BLACK&WHITE
BAND_CONTENT: UNDEFINED
BAND_CONTENT: UNDEFINED
BITS_PER_PIXEL: 8
SAMPLES_AND_LINES: 5443 7570
HORIZONTAL_DATUM: NAD83
HORIZONTAL_COORDINATE_SYSTEM: UTM
COORDINATE_ZONE: 13
HORIZONTAL_UNITS: meters
HORIZONTAL_RESOLUTION: 1.00000
SECONDARY_HORIZONTAL_DATUM: NAD27
XY_ORIGIN: 480558.00000 5184665.00000
SECONDARY_XY_ORIGIN: 480598.56600 5184445.60700
NATION: US
STATE: MT
NW_QUAD_CORNER_XY: 480927.22100 5184358.59700
NE_QUAD_CORNER_XY: 485695.41500 5184345.32300
SE_QUAD_CORNERY_XY: 485678.85200 5177400.19400
SW_QUAD_CORNER_XY: 480905.13700 5177413.46900
SECONDARY_NW_QUAD_XY: 480926.63600 5184140.15200
SECONDARY_NE_QUAD_XY: 485694.97600 5184126.87900
SECONDARY_SE_QUAD_XY: 485678.41300 5177181.78000
SECONDARY_SW_QUAD_XY: 480904.55200 5177195.05600
RMSE_XY: 2.31000
IMAGE_SOURCE: BLACK AND WHITE FILM
SOURCE_IMAGE_ID: NAPP 9119-238
SOURCE_IMAGE_DATE: 1996 8 26
SOURCE_DEM_DATE: 1999 0 0
AGENCY: WESTERN MAPPING CENTER (WMC)
PRODUCER: WOOLPERT LLP
PRODUCTION_SYSTEM: INTERGRAPH ISPM, ISIR
COMPRESSION: UNDEFINED
STANDARD_VERSION: 1996 12
METADATA_DATE: 2001 9 4
DATA_FILE_SIZE: 41208953
BYTE_COUNT: 5443
